BEGIN:VCALENDAR
VERSION:2.0
PRODID:-//KOPŽI - ECPv6.2.8.2//NONSGML v1.0//EN
CALSCALE:GREGORIAN
METHOD:PUBLISH
X-WR-CALNAME:KOPŽI
X-ORIGINAL-URL:https://anti-trafficking.lt
X-WR-CALDESC:Events for KOPŽI
REFRESH-INTERVAL;VALUE=DURATION:PT1H
X-Robots-Tag:noindex
X-PUBLISHED-TTL:PT1H
BEGIN:VTIMEZONE
TZID:Europe/Vilnius
BEGIN:DAYLIGHT
TZOFFSETFROM:+0200
TZOFFSETTO:+0300
TZNAME:EEST
DTSTART:20230326T010000
END:DAYLIGHT
BEGIN:STANDARD
TZOFFSETFROM:+0300
TZOFFSETTO:+0200
TZNAME:EET
DTSTART:20231029T010000
END:STANDARD
BEGIN:DAYLIGHT
TZOFFSETFROM:+0200
TZOFFSETTO:+0300
TZNAME:EEST
DTSTART:20240331T010000
END:DAYLIGHT
BEGIN:STANDARD
TZOFFSETFROM:+0300
TZOFFSETTO:+0200
TZNAME:EET
DTSTART:20241027T010000
END:STANDARD
END:VTIMEZONE
BEGIN:VEVENT
DTSTART;VALUE=DATE:20240226
DTEND;VALUE=DATE:20240227
DTSTAMP:20260424T051647
CREATED:20240224T143702Z
LAST-MODIFIED:20240224T143702Z
UID:25391-1708905600-1708991999@anti-trafficking.lt
SUMMARY:Amerikos ambasados projekto "Strateginė partnerystė: Nuo pabėgėlio iki darbuotojo" seminaras Šiauliuose "Prekyba žmonėmis ir darbinis išnaudojimas - kaip atpažinti ir padėti?"  - Organizatorius: KOPŽI
DESCRIPTION:
URL:https://anti-trafficking.lt/renginiai/amerikos-ambasados-projekto-strategine-partneryste-nuo-pabegelio-iki-darbuotojo-seminaras-siauliuose-prekyba-zmonemis-ir-darbinis-isnaudojimas-kaip-atpazinti-ir-padeti-organizatori/
LOCATION:Šiauliai\, Lietuva
CATEGORIES:Seminaras
END:VEVENT
BEGIN:VEVENT
DTSTART;VALUE=DATE:20240223
DTEND;VALUE=DATE:20240224
DTSTAMP:20260424T051647
CREATED:20240224T143812Z
LAST-MODIFIED:20240224T143812Z
UID:25395-1708646400-1708732799@anti-trafficking.lt
SUMMARY:Amerikos ambasados projekto "Strateginė partnerystė: Nuo pabėgėlio iki darbuotojo" seminaras Tauragėje "Prekyba žmonėmis ir darbinis išnaudojimas - kaip atpažinti ir padėti?" - Organizatorius: KOPŽI
DESCRIPTION:
URL:https://anti-trafficking.lt/renginiai/amerikos-ambasados-projekto-strategine-partneryste-nuo-pabegelio-iki-darbuotojo-seminaras-taurageje-prekyba-zmonemis-ir-darbinis-isnaudojimas-kaip-atpazinti-ir-padeti-organizatorius-kop/
LOCATION:Tauragė\, Lietuva
CATEGORIES:Seminaras
END:VEVENT
BEGIN:VEVENT
DTSTART;VALUE=DATE:20240220
DTEND;VALUE=DATE:20240221
DTSTAMP:20260424T051647
CREATED:20240226T070956Z
LAST-MODIFIED:20240226T070956Z
UID:25510-1708387200-1708473599@anti-trafficking.lt
SUMMARY:Paskaita "Prekyba žmonėmis Lietuvoje - kaip atpažinti?" Lietuvos medicinos studentų asociacijos Kauno sk. - Organizatorius: LIMSA
DESCRIPTION:
URL:https://anti-trafficking.lt/renginiai/paskaita-prekyba-zmonemis-lietuvoje-kaip-atpazinti-lietuvos-medicinos-studentu-asociacijos-kauno-sk-organizatorius-limsa/
LOCATION:Kaunas\, Lietuva
CATEGORIES:Paskaita
END:VEVENT
BEGIN:VEVENT
DTSTART;VALUE=DATE:20240220
DTEND;VALUE=DATE:20240221
DTSTAMP:20260424T051647
CREATED:20240224T143942Z
LAST-MODIFIED:20240224T143942Z
UID:25398-1708387200-1708473599@anti-trafficking.lt
SUMMARY:Amerikos ambasados projekto "Strateginė partnerystė: Nuo pabėgėlio iki darbuotojo" seminaras Marijampolėje "Prekyba žmonėmis ir darbinis išnaudojimas - kaip atpažinti ir padėti?"  - Organizatorius: KOPŽI
DESCRIPTION:
URL:https://anti-trafficking.lt/renginiai/amerikos-ambasados-projekto-strategine-partneryste-nuo-pabegelio-iki-darbuotojo-seminaras-marijampoleje-prekyba-zmonemis-ir-darbinis-isnaudojimas-kaip-atpazinti-ir-padeti-organizat/
LOCATION:Marijampolė\, Lietuva
CATEGORIES:Seminaras
END:VEVENT
BEGIN:VEVENT
DTSTART;VALUE=DATE:20240215
DTEND;VALUE=DATE:20240216
DTSTAMP:20260424T051647
CREATED:20240218T092548Z
LAST-MODIFIED:20240218T092609Z
UID:25377-1707955200-1708041599@anti-trafficking.lt
SUMMARY:Seminaras "Seksualinės prievartos trauma" - Organizatorius: KOPŽI
DESCRIPTION:
URL:https://anti-trafficking.lt/renginiai/seminaras-seksualines-prievartos-trauma-klaipedoje-organizatorius-kopzi/
LOCATION:Klaipėda\, Lietuva
CATEGORIES:Seminaras
END:VEVENT
BEGIN:VEVENT
DTSTART;VALUE=DATE:20240208
DTEND;VALUE=DATE:20240209
DTSTAMP:20260424T051647
CREATED:20240227T190301Z
LAST-MODIFIED:20240227T190301Z
UID:25626-1707350400-1707436799@anti-trafficking.lt
SUMMARY:Paskaita "Prekyba žmonėmis - prevencija\, formos" Kuršėnų Pavenčių mokykloje-daugiafunkciniame centre - Organizatorius:  Kuršėnų Pavenčių mokykla
DESCRIPTION:
URL:https://anti-trafficking.lt/renginiai/paskaita-prekyba-zmonemis-prevencija-formos-kursenu-pavenciu-mokykloje-daugiafunkciniame-centre-organizatorius-kursenu-pavenciu-mokykla/
LOCATION:Kuršėnai\, Lietuva
CATEGORIES:Paskaita
END:VEVENT
BEGIN:VEVENT
DTSTART;VALUE=DATE:20240125
DTEND;VALUE=DATE:20240126
DTSTAMP:20260424T051647
CREATED:20240125T072853Z
LAST-MODIFIED:20240126T073213Z
UID:25321-1706140800-1706227199@anti-trafficking.lt
SUMMARY:Pasitarimas dėl NVO bendradarbiavimo su teisėsauga Vidaus reikalų ministerijoje. Organizatorius: VRM
DESCRIPTION:
URL:https://anti-trafficking.lt/renginiai/pasitarimas-del-nvo-bendradarbiavimo-su-teisesauga-vidaus-reikalu-ministerijoje-organizatorius-vrm/
LOCATION:Vidaus reikalų ministerija\, Lietuva
CATEGORIES:Pasitarimas
END:VEVENT
BEGIN:VEVENT
DTSTART;VALUE=DATE:20231221
DTEND;VALUE=DATE:20231222
DTSTAMP:20260424T051647
CREATED:20231223T141441Z
LAST-MODIFIED:20240126T073315Z
UID:24838-1703116800-1703203199@anti-trafficking.lt
SUMMARY:Mokymai online "Migrantai iš Ukrainos: pažeidžiami ir išnaudojami" - Organizatorius: KOPŽI
DESCRIPTION:Organizatorius: KOPŽI\, Marijampolės savivaldybė
URL:https://anti-trafficking.lt/renginiai/mokymai-online-migrantai-is-ukrainos-pazeidziami-ir-isnaudojami/
LOCATION:Marijampolės savivaldybė\, Lietuva
CATEGORIES:Mokymai
END:VEVENT
BEGIN:VEVENT
DTSTART;VALUE=DATE:20231215
DTEND;VALUE=DATE:20231216
DTSTAMP:20260424T051647
CREATED:20231223T141559Z
LAST-MODIFIED:20231224T074419Z
UID:24840-1702598400-1702684799@anti-trafficking.lt
SUMMARY:Tarptautinė konferencija "Migrantai iš Ukrainos Lietuvos darbo rinkoje" - Organizatorius: Lietuvos profesinių sąjungų Aljansas\, Amerikos ambasada
DESCRIPTION:Organizatorius: Lietuvos profesinių sąjungų Aljansas\, Amerikos ambasada
URL:https://anti-trafficking.lt/renginiai/tarptautine-konferencija-migrantai-is-ukrainos-lietuvos-darbo-rinkoje/
LOCATION:LR Seimas\, Vilnius\,\, Lietuva
CATEGORIES:Konferencija
END:VEVENT
BEGIN:VEVENT
DTSTART;VALUE=DATE:20231213
DTEND;VALUE=DATE:20231214
DTSTAMP:20260424T051647
CREATED:20240115T111703Z
LAST-MODIFIED:20240115T111703Z
UID:25076-1702425600-1702511999@anti-trafficking.lt
SUMMARY:Seminaras online "Pamatyk mane: seksualinė prievarta prieš vaikus. Atpažinkime ir stabdykime!" - Organizatorius: KOPŽI
DESCRIPTION:Organizatorius: KOPŽI
URL:https://anti-trafficking.lt/renginiai/seminaras-online-pamatyk-mane-seksualine-prievarta-pries-vaikus-atpazinkime-ir-stabdykime-organizatorius-kopzi/
CATEGORIES:Seminaras
END:VEVENT
BEGIN:VEVENT
DTSTART;VALUE=DATE:20231208
DTEND;VALUE=DATE:20231209
DTSTAMP:20260424T051647
CREATED:20231223T111212Z
LAST-MODIFIED:20231224T074443Z
UID:24696-1701993600-1702079999@anti-trafficking.lt
SUMMARY:Paskaita „Prekyba žmonėmis\, formos\, aukos portretas\, pagalba” - Organizatorius: Akmenės r. savivaldybės visuomenės sveikatos biuras 
DESCRIPTION:Organizatorius: Akmenės r. savivaldybės visuomenės sveikatos biuras 
URL:https://anti-trafficking.lt/renginiai/paskaita-prekyba-zmonemis-formos-aukos-portretas-pagalba-2/
LOCATION:Papilės gimnazija\, Akmenės raj.\, Lietuva
CATEGORIES:Paskaita
END:VEVENT
BEGIN:VEVENT
DTSTART;VALUE=DATE:20231208
DTEND;VALUE=DATE:20231209
DTSTAMP:20260424T051647
CREATED:20231223T110610Z
LAST-MODIFIED:20231224T074505Z
UID:24689-1701993600-1702079999@anti-trafficking.lt
SUMMARY:Paskaita „Prekyba žmonėmis\, formos\, aukos portretas\, pagalba” - Organizatorius: Akmenės r. savivaldybės visuomenės sveikatos biuras
DESCRIPTION:Organizatorius: Akmenės r. savivaldybės visuomenės sveikatos biuras
URL:https://anti-trafficking.lt/renginiai/paskaita-prekyba-zmonemis-formos-aukos-portretas-pagalba/
LOCATION:Akmenės gimnazija\, Lietuva
CATEGORIES:Paskaita
END:VEVENT
BEGIN:VEVENT
DTSTART;VALUE=DATE:20231207
DTEND;VALUE=DATE:20231208
DTSTAMP:20260424T051647
CREATED:20231125T105025Z
LAST-MODIFIED:20231224T074056Z
UID:22701-1701907200-1701993599@anti-trafficking.lt
SUMMARY:Konferencija “Karas ir moterys. Ar tikrai karo veidas nemoteriškas?” - Organizatorius: FRIDA
DESCRIPTION:Organizatorius: FRIDA
URL:https://anti-trafficking.lt/renginiai/konferencija-karas-ir-moterys-ar-tikrai-karo-veidas-nemoteriskas-ukrainieciu-moteru-ir-vaiku-padetis-karo-lauke-ir-pasitraukus-is-jo/
LOCATION:Baltojo  kaspino festivalis\, Kaunas
CATEGORIES:Konferencija
END:VEVENT
BEGIN:VEVENT
DTSTART;VALUE=DATE:20231127
DTEND;VALUE=DATE:20231128
DTSTAMP:20260424T051647
CREATED:20231128T111337Z
LAST-MODIFIED:20231224T074540Z
UID:23178-1701043200-1701129599@anti-trafficking.lt
SUMMARY:Paskaita “Ką žinai apie prekybą žmonėmis?” - Organizatorius: KOPŽI
DESCRIPTION:Organizatorius: KOPŽI
URL:https://anti-trafficking.lt/renginiai/paskaita-ka-zinai-apie-prekyba-zmonemis/
LOCATION:Šiaulių technologijų mokymo centras\, Šiauliai\,\, Lietuva
CATEGORIES:Paskaita
END:VEVENT
BEGIN:VEVENT
DTSTART;VALUE=DATE:20231114
DTEND;VALUE=DATE:20231115
DTSTAMP:20260424T051647
CREATED:20231124T210840Z
LAST-MODIFIED:20231224T074307Z
UID:22648-1699920000-1700006399@anti-trafficking.lt
SUMMARY:Paskaita “Ką reikia žinoti apie prekybą žmonėmis?” - Organizatorius: Kauno UŽT
DESCRIPTION:Organizatorius: Kauno UŽT
URL:https://anti-trafficking.lt/renginiai/paskaita-ka-reikia-zinoti-apie-prekyba-zmonemis/
LOCATION:Užimtumo tarnyba\, E. Ožeškienės g. 37\, Kaunas
CATEGORIES:Paskaita
END:VEVENT
BEGIN:VEVENT
DTSTART;VALUE=DATE:20231108
DTEND;VALUE=DATE:20231109
DTSTAMP:20260424T051647
CREATED:20231128T113357Z
LAST-MODIFIED:20231224T074635Z
UID:23184-1699401600-1699487999@anti-trafficking.lt
SUMMARY:Paskaita “Kas yra prekyba žmonėmis ir kur rasti pagalbą?” - Organizatorius: Akmenės r. savivaldybės visuomenės sveikatos biuras
DESCRIPTION:Organizatorius: Akmenės r. savivaldybės visuomenės sveikatos biuras
URL:https://anti-trafficking.lt/renginiai/paskaita-kas-yra-prekyba-zmonemis-ir-kur-rasti-pagalba/
LOCATION:Akmenės rajono jaunimo ir suaugusiųjų švietimo centras\, N. Akmenė
END:VEVENT
BEGIN:VEVENT
DTSTART;VALUE=DATE:20231106
DTEND;VALUE=DATE:20231111
DTSTAMP:20260424T051647
CREATED:20231128T112626Z
LAST-MODIFIED:20240117T124918Z
UID:23181-1699228800-1699660799@anti-trafficking.lt
SUMMARY:Mokymai “1st Baltic Sea Regional Simulation – based Training Exercise on Combating Trafficking in Human Beings” - Organizatorius: OSCE\, Council of the Baltic Sea States 2023.11.06-11.10
DESCRIPTION:Organizatorius: OSCE\, Council of the Baltic Sea States
URL:https://anti-trafficking.lt/renginiai/mokymai-1st-baltic-sea-regional-simulation-based-training-exercise-on-combating-trafficking-in-human-beings/
LOCATION:Bruehl\, Vokietija
CATEGORIES:Mokymai
END:VEVENT
BEGIN:VEVENT
DTSTART;VALUE=DATE:20231016
DTEND;VALUE=DATE:20231017
DTSTAMP:20260424T051647
CREATED:20231223T083148Z
LAST-MODIFIED:20231224T081753Z
UID:24668-1697414400-1697500799@anti-trafficking.lt
SUMMARY:Tarptautinė diskusija “Kaip užtikrinti prevencines priemones\, siekiant užkirsti kelią tapti seksualinio smurto auka?” - Organizatorius: SADM 
DESCRIPTION:Organizatorius: SADM 
URL:https://anti-trafficking.lt/renginiai/tarptautine-diskusija-kaip-uztikrinti-prevencines-priemones-siekiant-uzkirsti-kelia-tapti-seksualinio-smurto-auka/
LOCATION:Lietuvos nacionalinėje M. Mažvydo bibliotekoje
CATEGORIES:Diskusija
END:VEVENT
BEGIN:VEVENT
DTSTART;VALUE=DATE:20231012
DTEND;VALUE=DATE:20231013
DTSTAMP:20260424T051647
CREATED:20231223T085320Z
LAST-MODIFIED:20231224T074839Z
UID:24671-1697068800-1697155199@anti-trafficking.lt
SUMMARY:Susitikimas-paskaita su asmenimis iš Ukrainos - Organizatorius: Tauragės UŽT 
DESCRIPTION:Organizatorius: Tauragės UŽT 
URL:https://anti-trafficking.lt/renginiai/susitikimas-paskaita-taurages-uzt-su-asmenimis-is-ukrainos/
LOCATION:Tauragės Užimtumo Tarnyba
CATEGORIES:Paskaita
END:VEVENT
BEGIN:VEVENT
DTSTART;VALUE=DATE:20231011
DTEND;VALUE=DATE:20231012
DTSTAMP:20260424T051647
CREATED:20231223T110130Z
LAST-MODIFIED:20231224T074908Z
UID:24680-1696982400-1697068799@anti-trafficking.lt
SUMMARY:Mokymai “Seksualinė prievarta prieš vaikus – kaip mąsto ir veikia prievartautojas” - Organizatorius: Akmenės r. savivaldybės visuomenės sveikatos biuras 
DESCRIPTION:Organizatorius: Akmenės r. savivaldybės visuomenės sveikatos biuras 
URL:https://anti-trafficking.lt/renginiai/mokymai-seksualine-prievarta-pries-vaikus-kaip-masto-ir-veikia-prievartautojas/
LOCATION:N. Akmenės Užimtumo tarnyba\, Lietuva
CATEGORIES:Mokymai
END:VEVENT
BEGIN:VEVENT
DTSTART;VALUE=DATE:20231011
DTEND;VALUE=DATE:20231012
DTSTAMP:20260424T051647
CREATED:20231223T105952Z
LAST-MODIFIED:20231224T074935Z
UID:24676-1696982400-1697068799@anti-trafficking.lt
SUMMARY:Paskaita “Prekyba žmonėmis: priežastys\, aukos portretas” - Organizatorius: Akmenės r. savivaldybės visuomenės sveikatos biuras 
DESCRIPTION:Organizatorius: Akmenės r. savivaldybės visuomenės sveikatos biuras 
URL:https://anti-trafficking.lt/renginiai/paskaita-prekyba-zmonemis-priezastys-aukos-portretas/
LOCATION:Kruopių pagrindinė mokykla\, Lietuva
CATEGORIES:Paskaita
END:VEVENT
BEGIN:VEVENT
DTSTART;VALUE=DATE:20231009
DTEND;VALUE=DATE:20231010
DTSTAMP:20260424T051647
CREATED:20231223T110439Z
LAST-MODIFIED:20231224T075003Z
UID:24685-1696809600-1696895999@anti-trafficking.lt
SUMMARY:Paskaita moksleiviams “Prekybos žmonėmis pavojai – ką žinome apie tai?” - Organizatorius: KOPŽI 
DESCRIPTION:Organizatorius: KOPŽI 
URL:https://anti-trafficking.lt/renginiai/paskaita-moksleiviams-prekybos-zmonemis-pavojai-ka-zinome-apie-tai/
LOCATION:Tauragės profesinio rengimo centras\, Lietuva
CATEGORIES:Paskaita
END:VEVENT
BEGIN:VEVENT
DTSTART;TZID=Europe/Vilnius:20231005T080000
DTEND;TZID=Europe/Vilnius:20231006T170000
DTSTAMP:20260424T051647
CREATED:20231223T111353Z
LAST-MODIFIED:20240117T124819Z
UID:24699-1696492800-1696611600@anti-trafficking.lt
SUMMARY:Mokymai “Besąlyginė prieiga prie prekybos žmonėmis aukoms teikiamų paslaugų” - Organizatorius: Europos saugumo ir bendradarbiavimo organizacija (OSCE) 2023.10.05-10.06
DESCRIPTION:Organizatorius: Europos saugumo ir bendradarbiavimo organizacija (OSCE) 
URL:https://anti-trafficking.lt/renginiai/mokymai-besalygine-prieiga-prie-prekybos-zmonemis-aukoms-teikiamu-paslaugu/
CATEGORIES:Mokymai
END:VEVENT
BEGIN:VEVENT
DTSTART;VALUE=DATE:20231004
DTEND;VALUE=DATE:20231005
DTSTAMP:20260424T051647
CREATED:20231223T111704Z
LAST-MODIFIED:20231224T075059Z
UID:24702-1696377600-1696463999@anti-trafficking.lt
SUMMARY:ES projekto “NET-WORKS: to ensure the long term integration of Third-Country Nationals Survivors of Trafficking promoting job opportunities and work life balance measures” (101038425) partnerių susitikimas - Organizatorius: Fundación de Solidaridad Amaranta (Ispanija)  
DESCRIPTION:Organizatorius: Fundación de Solidaridad Amaranta (Ispanija)  
URL:https://anti-trafficking.lt/renginiai/es-projekto-net-works-to-ensure-the-long-term-integration-of-third-country-nationals-survivors-of-trafficking-promoting-job-opportunities-and-work-life-balance-measures-101038425/
LOCATION:Gijon\, Ispanija
CATEGORIES:Susitikimas
END:VEVENT
BEGIN:VEVENT
DTSTART;VALUE=DATE:20230830
DTEND;VALUE=DATE:20230831
DTSTAMP:20260424T051647
CREATED:20231223T111813Z
LAST-MODIFIED:20231224T075128Z
UID:24705-1693353600-1693439999@anti-trafficking.lt
SUMMARY:Virtuali apskrito stalo diskusija “Kova su vaikų seksualine prievarta ir jų išnaudojimu internete” - Organizatoriai: International Centre For Missing and Exploited Children (ICMEC)\, KOPŽI 
DESCRIPTION:Organizatoriai: International Centre For Missing and Exploited Children (ICMEC)\, KOPŽI 
URL:https://anti-trafficking.lt/renginiai/virtuali-apskrito-stalo-diskusija-kova-su-vaiku-seksualine-prievarta-ir-ju-isnaudojimu-internete/
CATEGORIES:Diskusija
END:VEVENT
BEGIN:VEVENT
DTSTART;VALUE=DATE:20230829
DTEND;VALUE=DATE:20230830
DTSTAMP:20260424T051647
CREATED:20231223T111925Z
LAST-MODIFIED:20231224T075154Z
UID:24708-1693267200-1693353599@anti-trafficking.lt
SUMMARY:Susitikimas su LR Seimo kontrolierių įstaigos komanda - Organizatoriai: LR Seimo kontrolierių įstaiga\, Sienos grupė
DESCRIPTION:Organizatoriai: LR Seimo kontrolierių įstaiga\, Sienos grupė
URL:https://anti-trafficking.lt/renginiai/susitikimas-su-lr-seimo-kontrolieriu-istaigos-komanda/
CATEGORIES:Susitikimas
END:VEVENT
BEGIN:VEVENT
DTSTART;VALUE=DATE:20230711
DTEND;VALUE=DATE:20230712
DTSTAMP:20260424T051647
CREATED:20231223T112045Z
LAST-MODIFIED:20231224T075225Z
UID:24710-1689033600-1689119999@anti-trafficking.lt
SUMMARY:Paskaita jaunimui “Ką žinai apie prekybą žmonėmis ir nesaugų internetą?” - Organizatorius: Šiaulių Užimtumo tarnyba 
DESCRIPTION:Organizatorius: Šiaulių Užimtumo tarnyba 
URL:https://anti-trafficking.lt/renginiai/paskaita-jaunimui-ka-zinai-apie-prekyba-zmonemis-ir-nesaugu-interneta/
LOCATION:Kėdainių Užimtumo tarnyba\, Lietuva
CATEGORIES:Paskaita
END:VEVENT
BEGIN:VEVENT
DTSTART;VALUE=DATE:20230614
DTEND;VALUE=DATE:20230615
DTSTAMP:20260424T051647
CREATED:20231223T112312Z
LAST-MODIFIED:20231224T075253Z
UID:24713-1686700800-1686787199@anti-trafficking.lt
SUMMARY:Apskrito stalo diskusija Seime dėl Lietuvos Respublikos asmenų\, įtariamų ar nuteistų už seksualinius nusikaltimus\, užkardymo įstatymo projekto - Organizatorius: Rimantė Šalaševičiūtė\, Seimas 
DESCRIPTION:Organizatorius: Rimantė Šalaševičiūtė\, Seimas 
URL:https://anti-trafficking.lt/renginiai/apskrito-stalo-diskusija-seime-del-lietuvos-respublikos-asmenu-itariamu-ar-nuteistu-uz-seksualinius-nusikaltimus-uzkardymo-istatymo-projekto/
LOCATION:Lietuvos Respublikos Seimas\, Lietuva
CATEGORIES:Diskusija
END:VEVENT
BEGIN:VEVENT
DTSTART;VALUE=DATE:20230609
DTEND;VALUE=DATE:20230610
DTSTAMP:20260424T051647
CREATED:20231223T112423Z
LAST-MODIFIED:20231224T075330Z
UID:24717-1686268800-1686355199@anti-trafficking.lt
SUMMARY:Mokslinio darbo „Socialinio darbuotojo patiriami sunkumai dirbant su prekybos žmonėmis aukomis“ pristatymas-diskusija - Organizatorius: Kauno kolegijos bakalauro studijų studentė D. Polekauskienė 
DESCRIPTION:Organizatorius: Kauno kolegijos bakalauro studijų studentė D. Polekauskienė 
URL:https://anti-trafficking.lt/renginiai/mokslinio-darbo-socialinio-darbuotojo-patiriami-sunkumai-dirbant-su-prekybos-zmonemis-aukomis-pristatymas-diskusija/
CATEGORIES:Diskusija
END:VEVENT
BEGIN:VEVENT
DTSTART;VALUE=DATE:20230530
DTEND;VALUE=DATE:20230531
DTSTAMP:20260424T051647
CREATED:20231223T112712Z
LAST-MODIFIED:20231224T075411Z
UID:24720-1685404800-1685491199@anti-trafficking.lt
SUMMARY:Paskaita “Kas yra prekyba žmonėmis?” - Organizatorius: Licėjus 
DESCRIPTION:Organizatorius: Licėjus 
URL:https://anti-trafficking.lt/renginiai/paskaita-kas-yra-prekyba-zmonemis/
LOCATION:Generolo Povilo Plechavičiaus kadetų licėjus\, Kaunas
CATEGORIES:Paskaita
END:VEVENT
END:VCALENDAR