BEGIN:VCALENDAR
VERSION:2.0
PRODID:-//KOPŽI - ECPv6.2.8.2//NONSGML v1.0//EN
CALSCALE:GREGORIAN
METHOD:PUBLISH
X-WR-CALNAME:KOPŽI
X-ORIGINAL-URL:https://anti-trafficking.lt
X-WR-CALDESC:Events for KOPŽI
REFRESH-INTERVAL;VALUE=DURATION:PT1H
X-Robots-Tag:noindex
X-PUBLISHED-TTL:PT1H
BEGIN:VTIMEZONE
TZID:Europe/Vilnius
BEGIN:DAYLIGHT
TZOFFSETFROM:+0200
TZOFFSETTO:+0300
TZNAME:EEST
DTSTART:20230326T010000
END:DAYLIGHT
BEGIN:STANDARD
TZOFFSETFROM:+0300
TZOFFSETTO:+0200
TZNAME:EET
DTSTART:20231029T010000
END:STANDARD
BEGIN:DAYLIGHT
TZOFFSETFROM:+0200
TZOFFSETTO:+0300
TZNAME:EEST
DTSTART:20240331T010000
END:DAYLIGHT
BEGIN:STANDARD
TZOFFSETFROM:+0300
TZOFFSETTO:+0200
TZNAME:EET
DTSTART:20241027T010000
END:STANDARD
END:VTIMEZONE
BEGIN:VEVENT
DTSTART;VALUE=DATE:20240517
DTEND;VALUE=DATE:20240518
DTSTAMP:20260423T022939
CREATED:20240521T134527Z
LAST-MODIFIED:20240521T134527Z
UID:25951-1715904000-1715990399@anti-trafficking.lt
SUMMARY:Konferencija "Vaikystėje patirtas seksualinis smurtas ir jo pažymėti gyvenimai. Ar esame pasiruošę šią problemą pripažinti ir spręsti?" Seime - Organizatorius: Vilniaus Moterų namai
DESCRIPTION:
URL:https://anti-trafficking.lt/renginiai/konferencija-vaikysteje-patirtas-seksualinis-smurtas-ir-jo-pazymeti-gyvenimai-ar-esame-pasiruose-sia-problema-pripazinti-ir-spresti-seime-organizatorius-vilniaus-moteru-namai/
LOCATION:Vilnius\, Lietuva
CATEGORIES:Konferencija
END:VEVENT
BEGIN:VEVENT
DTSTART;VALUE=DATE:20240514
DTEND;VALUE=DATE:20240515
DTSTAMP:20260423T022939
CREATED:20240702T195700Z
LAST-MODIFIED:20240702T195723Z
UID:26050-1715644800-1715731199@anti-trafficking.lt
SUMMARY:Amerikos ambasados projekto „Strateginė partnerystė: Nuo pabėgėlio iki darbuotojo” seminaras Mažeikiuose „Prekyba žmonėmis ir darbinis išnaudojimas – kaip atpažinti ir padėti?” – Organizatorius: KOPŽI
DESCRIPTION:
URL:https://anti-trafficking.lt/renginiai/2024-05-14-amerikos-ambasados-projekto-strategine-partneryste-nuo-pabegelio-iki-darbuotojo-seminaras-mazeikiuose-prekyba-zmonemis-ir-darbinis-isnaudojimas-ka/
LOCATION:Mažeikiai\, Lietuva
CATEGORIES:Projektas
END:VEVENT
BEGIN:VEVENT
DTSTART;VALUE=DATE:20240508
DTEND;VALUE=DATE:20240509
DTSTAMP:20260423T022939
CREATED:20240517T070734Z
LAST-MODIFIED:20240517T070734Z
UID:25948-1715126400-1715212799@anti-trafficking.lt
SUMMARY:Konferencija "Užverbuoti nusikaltimams: prekybos žmonėmis nusikaltimų darymui aukų identifikavimas ir iššūkiai teikiant pagalbą" Kauno apygardos teisme\, Organizatorius: KOPŽI\, NAPPŽ
DESCRIPTION:
URL:https://anti-trafficking.lt/renginiai/konferencija-uzverbuoti-nusikaltimams-prekybos-zmonemis-nusikaltimu-darymui-auku-identifikavimas-ir-issukiai-teikiant-pagalba-kauno-apygardos-teisme-organizatorius-kopzi-nappz/
LOCATION:Kaunas\, Lietuva
CATEGORIES:Konferencija
END:VEVENT
BEGIN:VEVENT
DTSTART;VALUE=DATE:20240426
DTEND;VALUE=DATE:20240427
DTSTAMP:20260423T022939
CREATED:20240402T084455Z
LAST-MODIFIED:20240402T084520Z
UID:25781-1714089600-1714175999@anti-trafficking.lt
SUMMARY:Apskrito stalo diskusija Kaune „Ukrainiečių karo pabėgėlių integracija Lietuvoje karui Ukrainoje tebesitęsiant. Pagalbos galimybės ir iššūkiai.‘‘ - Organizatorius: Labdaros ir paramos fondas "Frida"
DESCRIPTION:
URL:https://anti-trafficking.lt/renginiai/apskrito-stalo-diskusija-kaune-ukrainieciu-karo-pabegeliu-integracija-lietuvoje-karui-ukrainoje-tebesitesiant-pagalbos-galimybes-ir-issukiai-organizatorius-labdaros-ir/
LOCATION:Kaunas\, Lietuva
CATEGORIES:Diskusija
END:VEVENT
BEGIN:VEVENT
DTSTART;VALUE=DATE:20240424
DTEND;VALUE=DATE:20240425
DTSTAMP:20260423T022939
CREATED:20240429T053517Z
LAST-MODIFIED:20240429T053517Z
UID:25925-1713916800-1714003199@anti-trafficking.lt
SUMMARY:Konferencija Kaune " Atsakas į vaikų ir jaunimo nusikalstamumą Šiaurės ir Baltijos šalyse: kaip veiksmingai reaguoti į didelę riziką?"\, Organizatorius: Šiaurės ministrų tarybos biuras Lietuvoje
DESCRIPTION:
URL:https://anti-trafficking.lt/renginiai/konferencija-kaune-atsakas-i-vaiku-ir-jaunimo-nusikalstamuma-siaures-ir-baltijos-salyse-kaip-veiksmingai-reaguoti-i-didele-rizika-organizatorius-siaures-ministru-tarybos-biuras-lietuvoje/
LOCATION:Kaunas\, Lietuva
CATEGORIES:Konferencija
END:VEVENT
BEGIN:VEVENT
DTSTART;VALUE=DATE:20240422
DTEND;VALUE=DATE:20240423
DTSTAMP:20260423T022939
CREATED:20240429T053604Z
LAST-MODIFIED:20240429T053604Z
UID:25928-1713744000-1713830399@anti-trafficking.lt
SUMMARY:Paskaita Tauragės Žalgirių gimnazijoje "Ką žinai apie prekybą žmonėmis ir pagalbą aukoms?"\, Organizatorius: Tauragės Žalgirių gimnazija
DESCRIPTION:
URL:https://anti-trafficking.lt/renginiai/paskaita-taurages-zalgiriu-gimnazijoje-ka-zinai-apie-prekyba-zmonemis-ir-pagalba-aukoms-organizatorius-taurages-zalgiriu-gimnazija/
LOCATION:Tauragė\, Lietuva
CATEGORIES:Paskaita
END:VEVENT
BEGIN:VEVENT
DTSTART;TZID=Europe/Vilnius:20240418T080000
DTEND;TZID=Europe/Vilnius:20240419T170000
DTSTAMP:20260423T022939
CREATED:20240415T173510Z
LAST-MODIFIED:20240415T173600Z
UID:25885-1713427200-1713546000@anti-trafficking.lt
SUMMARY:Konferencija „Šiuolaikinės darbo rinkos tendencijos transporto sektoriuje: tarp politikos\, realybės ir siekio“ Seime - Organizatorius: Lietuvos profesinių sąjungų Aljansas 2024.04.18 -19d.
DESCRIPTION:
URL:https://anti-trafficking.lt/renginiai/konferencija-siuolaikines-darbo-rinkos-tendencijos-transporto-sektoriuje-tarp-politikos-realybes-ir-siekio-seime-organizatorius-lietuvos-profesiniu-sajungu-aljansas/
LOCATION:Lietuvos Respublikos Seimas\, Lietuva
CATEGORIES:Konferencija
END:VEVENT
BEGIN:VEVENT
DTSTART;VALUE=DATE:20240416
DTEND;VALUE=DATE:20240417
DTSTAMP:20260423T022939
CREATED:20240417T084608Z
LAST-MODIFIED:20240417T084608Z
UID:25912-1713225600-1713311999@anti-trafficking.lt
SUMMARY:Paskaita "Prekybos žmonėmis aukų identifikavimas ir pagalba joms" Konsulinių pareigūnų rotaciniuose mokymuose Vilniuje - Organizatorius: LR Užsienio reikalų ministerija
DESCRIPTION:
URL:https://anti-trafficking.lt/renginiai/paskaita-prekybos-zmonemis-auku-identifikavimas-ir-pagalba-joms-konsuliniu-pareigunu-rotaciniuose-mokymuose-vilniuje-organizatorius-lr-uzsienio-reikalu-ministerija/
LOCATION:Vilnius\, Lietuva
CATEGORIES:Paskaita
END:VEVENT
BEGIN:VEVENT
DTSTART;VALUE=DATE:20240408
DTEND;VALUE=DATE:20240409
DTSTAMP:20260423T022939
CREATED:20240409T084356Z
LAST-MODIFIED:20240409T084356Z
UID:25804-1712534400-1712620799@anti-trafficking.lt
SUMMARY:Amerikos ambasados projekto „Strateginė partnerystė: Nuo pabėgėlio iki darbuotojo” seminaras Kelmėje „Prekyba žmonėmis ir darbinis išnaudojimas – kaip atpažinti ir padėti?” – Organizatorius: KOPŽI
DESCRIPTION:
URL:https://anti-trafficking.lt/renginiai/amerikos-ambasados-projekto-strategine-partneryste-nuo-pabegelio-iki-darbuotojo-seminaras-kelmeje-prekyba-zmonemis-ir-darbinis-isnaudojimas-kaip-atpazinti-ir-pade/
LOCATION:Kelmė\, Lietuva
CATEGORIES:Seminaras
END:VEVENT
BEGIN:VEVENT
DTSTART;VALUE=DATE:20240405
DTEND;VALUE=DATE:20240406
DTSTAMP:20260423T022939
CREATED:20240409T073153Z
LAST-MODIFIED:20240409T073301Z
UID:25789-1712275200-1712361599@anti-trafficking.lt
SUMMARY:Amerikos ambasados projekto „Strateginė partnerystė: Nuo pabėgėlio iki darbuotojo” seminaras N. Akmenėje „Prekyba žmonėmis ir darbinis išnaudojimas – kaip atpažinti ir padėti?” – Organizatorius: KOPŽI
DESCRIPTION:
URL:https://anti-trafficking.lt/renginiai/amerikos-ambasados-projekto-strategine-partneryste-nuo-pabegelio-iki-darbuotojo-seminaras-n-akmeneje-prekyba-zmonemis-ir-darbinis-isnaudojimas-kaip-atpazinti-ir/
LOCATION:Naujoji Akmenė\, Lietuva
CATEGORIES:Seminaras
END:VEVENT
BEGIN:VEVENT
DTSTART;VALUE=DATE:20240328
DTEND;VALUE=DATE:20240329
DTSTAMP:20260423T022939
CREATED:20240402T083159Z
LAST-MODIFIED:20240402T083159Z
UID:25773-1711584000-1711670399@anti-trafficking.lt
SUMMARY:Paskaita Marijampolės kolegijoje "Seksualinis vaikų išnaudojimas artimoje aplinkoje" - Organizatorius: Marijampolės kolegija
DESCRIPTION:
URL:https://anti-trafficking.lt/renginiai/paskaita-marijampoles-kolegijoje-seksualinis-vaiku-isnaudojimas-artimoje-aplinkoje-organizatorius-marijampoles-kolegija/
LOCATION:Marijampolė\, Lietuva
CATEGORIES:Paskaita
END:VEVENT
BEGIN:VEVENT
DTSTART;VALUE=DATE:20240321
DTEND;VALUE=DATE:20240322
DTSTAMP:20260423T022939
CREATED:20240227T071930Z
LAST-MODIFIED:20240227T071930Z
UID:25609-1710979200-1711065599@anti-trafficking.lt
SUMMARY:Mokymai online "Kova su prekyba žmonėmis" VSAT Pasieniečių mokyklos kvalifikacijos kėlimo kursuose - Organizatorius: VSAT Pasieniečių mokykla
DESCRIPTION:
URL:https://anti-trafficking.lt/renginiai/mokymai-online-kova-su-prekyba-zmonemis-vsat-pasienieciu-mokyklos-kvalifikacijos-kelimo-kursuose-organizatorius-vsat-pasienieciu-mokykla/
CATEGORIES:Mokymai
END:VEVENT
BEGIN:VEVENT
DTSTART;VALUE=DATE:20240319
DTEND;VALUE=DATE:20240320
DTSTAMP:20260423T022939
CREATED:20240229T193307Z
LAST-MODIFIED:20240229T193307Z
UID:25630-1710806400-1710892799@anti-trafficking.lt
SUMMARY:Amerikos ambasados projekto „Strateginė partnerystė: Nuo pabėgėlio iki darbuotojo” seminaras Ukmergėje „Prekyba žmonėmis ir darbinis išnaudojimas – kaip atpažinti ir padėti?” – Organizatorius: KOPŽI
DESCRIPTION:
URL:https://anti-trafficking.lt/renginiai/amerikos-ambasados-projekto-strategine-partneryste-nuo-pabegelio-iki-darbuotojo-seminaras-ukmergeje-prekyba-zmonemis-ir-darbinis-isnaudojimas-kaip-atpazinti-ir-pa/
LOCATION:Ukmergė\, Lietuva
CATEGORIES:Seminaras
END:VEVENT
BEGIN:VEVENT
DTSTART;VALUE=DATE:20240318
DTEND;VALUE=DATE:20240319
DTSTAMP:20260423T022939
CREATED:20240318T062424Z
LAST-MODIFIED:20240318T062424Z
UID:25713-1710720000-1710806399@anti-trafficking.lt
SUMMARY:Kauno apskrities institucijų ir organizacijų susitikimas dėl pagalbos prekybos žmonėmis aukoms teikimo Raseinių rajono savivaldybėje - Organizatorius: NAPPŽ
DESCRIPTION:
URL:https://anti-trafficking.lt/renginiai/kauno-apskrities-instituciju-ir-organizaciju-susitikimas-del-pagalbos-prekybos-zmonemis-aukoms-teikimo-raseiniu-rajono-savivaldybeje-organizatorius-nappz/
LOCATION:Raseinių rajono savivaldybė\, Lietuva
CATEGORIES:Susitikimas
END:VEVENT
BEGIN:VEVENT
DTSTART;VALUE=DATE:20240316
DTEND;VALUE=DATE:20240317
DTSTAMP:20260423T022939
CREATED:20240317T182650Z
LAST-MODIFIED:20240402T083057Z
UID:25710-1710547200-1710633599@anti-trafficking.lt
SUMMARY:Paskaita "Prekyba vaikais ir seksualinis vaikų išnaudojimas - pagalba ir iššūkiai" Vaikų linijos savanorių seminare "Kai saugu viduje - saugiau ir išorėje"\, Kaunas - Organizatorius: Vaikų linija
DESCRIPTION:
URL:https://anti-trafficking.lt/renginiai/paskaita-prekyba-vaikais-ir-seksualinis-vaiku-isnaudojimas-pagalba-ir-issukiai-vaiku-linijos-savanoriu-seminare-kai-saugu-viduje-saugiau-ir-isoreje-kaunas-organizatorius-vaiku-linija/
LOCATION:Kaunas\, Lietuva
CATEGORIES:Paskaita
END:VEVENT
BEGIN:VEVENT
DTSTART;VALUE=DATE:20240314
DTEND;VALUE=DATE:20240315
DTSTAMP:20260423T022939
CREATED:20240229T193358Z
LAST-MODIFIED:20240229T193358Z
UID:25633-1710374400-1710460799@anti-trafficking.lt
SUMMARY:Amerikos ambasados projekto „Strateginė partnerystė: Nuo pabėgėlio iki darbuotojo” seminaras Panevėžyje „Prekyba žmonėmis ir darbinis išnaudojimas – kaip atpažinti ir padėti?” – Organizatorius: KOPŽI
DESCRIPTION:
URL:https://anti-trafficking.lt/renginiai/amerikos-ambasados-projekto-strategine-partneryste-nuo-pabegelio-iki-darbuotojo-seminaras-panevezyje-prekyba-zmonemis-ir-darbinis-isnaudojimas-kaip-atpazinti-ir-p/
LOCATION:Panevėžys\, Lietuva
CATEGORIES:Seminaras
END:VEVENT
BEGIN:VEVENT
DTSTART;VALUE=DATE:20240312
DTEND;VALUE=DATE:20240313
DTSTAMP:20260423T022939
CREATED:20240227T071643Z
LAST-MODIFIED:20240227T185740Z
UID:25600-1710201600-1710287999@anti-trafficking.lt
SUMMARY:Amerikos ambasadas projekto "Strateginė partnerystė: Nuo pabėgėlio iki darbuotojo" seminaras Gargžduose "Prekyba žmonėmis ir darbinis išnaudojimas - kaip atpažinti ir padėti?" - Organizatorius: KOPŽI
DESCRIPTION:
URL:https://anti-trafficking.lt/renginiai/amerikos-ambasadas-projekto-strategine-partneryste-nuo-pabegelio-iki-darbuotojo-seminaras-prekyba-zmonemis-ir-darbinis-isnaudojimas-kaip-atpazinti-ir-padeti-organizatorius-kopzi-3/
LOCATION:Gargždai\, Lietuva
CATEGORIES:Seminaras
END:VEVENT
BEGIN:VEVENT
DTSTART;TZID=Europe/Vilnius:20240308T080000
DTEND;TZID=Europe/Vilnius:20240308T170000
DTSTAMP:20260423T022939
CREATED:20240315T110439Z
LAST-MODIFIED:20240315T110614Z
UID:25706-1709884800-1709917200@anti-trafficking.lt
SUMMARY:Diskusija "Ukrainiečiai Kaune: nuo pabėgėlio iki darbuotojo" Kauno m. savivaldybėje - Organizatorius: LPSA
DESCRIPTION:
URL:https://anti-trafficking.lt/renginiai/diskusija-ukrainieciai-kaune-nuo-pabegelio-iki-darbuotojo-kauno-m-savivaldybeje-organizatorius-lpsa/
LOCATION:Kauno m. sav.\, Lietuva
CATEGORIES:Diskusija
END:VEVENT
BEGIN:VEVENT
DTSTART;VALUE=DATE:20240307
DTEND;VALUE=DATE:20240308
DTSTAMP:20260423T022939
CREATED:20240224T143451Z
LAST-MODIFIED:20240224T143451Z
UID:25383-1709769600-1709855999@anti-trafficking.lt
SUMMARY:Amerikos ambasados projekto "Strateginė partnerystė: Nuo pabėgėlio iki darbuotojo" seminaras Alytuje "Prekyba žmonėmis ir darbinis išnaudojimas - kaip atpažinti ir padėti?" - Organizatorius: KOPŽI
DESCRIPTION:
URL:https://anti-trafficking.lt/renginiai/amerikos-ambasados-projekto-strategine-partneryste-nuo-pabegelio-iki-darbuotojo-seminaras-alytuje-prekyba-zmonemis-ir-darbinis-isnaudojimas-kaip-atpazinti-ir-padeti-organizatorius-kopzi/
LOCATION:Alytus\, Lietuva
CATEGORIES:Seminaras
END:VEVENT
BEGIN:VEVENT
DTSTART;VALUE=DATE:20240304
DTEND;VALUE=DATE:20240305
DTSTAMP:20260423T022939
CREATED:20240227T071757Z
LAST-MODIFIED:20240227T185704Z
UID:25605-1709510400-1709596799@anti-trafficking.lt
SUMMARY:Amerikos ambasadas projekto "Strateginė partnerystė: Nuo pabėgėlio iki darbuotojo" seminaras Jurbarke "Prekyba žmonėmis ir darbinis išnaudojimas - kaip atpažinti ir padėti?" - Organizatorius: KOPŽI
DESCRIPTION:
URL:https://anti-trafficking.lt/renginiai/amerikos-ambasadas-projekto-strategine-partneryste-nuo-pabegelio-iki-darbuotojo-seminaras-prekyba-zmonemis-ir-darbinis-isnaudojimas-kaip-atpazinti-ir-padeti-organizatorius-kopzi-4/
LOCATION:Jurbarkas\, Lietuva
CATEGORIES:Seminaras
END:VEVENT
BEGIN:VEVENT
DTSTART;VALUE=DATE:20240301
DTEND;VALUE=DATE:20240302
DTSTAMP:20260423T022939
CREATED:20240224T143558Z
LAST-MODIFIED:20240224T143558Z
UID:25387-1709251200-1709337599@anti-trafficking.lt
SUMMARY:Amerikos ambasados projekto "Strateginė partnerystė: Nuo pabėgėlio iki darbuotojo" seminaras Šakiuose "Prekyba žmonėmis ir darbinis išnaudojimas - kaip atpažinti ir padėti?" - Organizatorius: KOPŽI
DESCRIPTION:
URL:https://anti-trafficking.lt/renginiai/amerikos-ambasados-projekto-strategine-partneryste-nuo-pabegelio-iki-darbuotojo-seminaras-sakiuose-prekyba-zmonemis-ir-darbinis-isnaudojimas-kaip-atpazinti-ir-padeti-organizatorius-kopz/
LOCATION:Šakiai\, Lietuva
CATEGORIES:Seminaras
END:VEVENT
BEGIN:VEVENT
DTSTART;VALUE=DATE:20240226
DTEND;VALUE=DATE:20240227
DTSTAMP:20260423T022939
CREATED:20240224T143702Z
LAST-MODIFIED:20240224T143702Z
UID:25391-1708905600-1708991999@anti-trafficking.lt
SUMMARY:Amerikos ambasados projekto "Strateginė partnerystė: Nuo pabėgėlio iki darbuotojo" seminaras Šiauliuose "Prekyba žmonėmis ir darbinis išnaudojimas - kaip atpažinti ir padėti?"  - Organizatorius: KOPŽI
DESCRIPTION:
URL:https://anti-trafficking.lt/renginiai/amerikos-ambasados-projekto-strategine-partneryste-nuo-pabegelio-iki-darbuotojo-seminaras-siauliuose-prekyba-zmonemis-ir-darbinis-isnaudojimas-kaip-atpazinti-ir-padeti-organizatori/
LOCATION:Šiauliai\, Lietuva
CATEGORIES:Seminaras
END:VEVENT
BEGIN:VEVENT
DTSTART;VALUE=DATE:20240223
DTEND;VALUE=DATE:20240224
DTSTAMP:20260423T022939
CREATED:20240224T143812Z
LAST-MODIFIED:20240224T143812Z
UID:25395-1708646400-1708732799@anti-trafficking.lt
SUMMARY:Amerikos ambasados projekto "Strateginė partnerystė: Nuo pabėgėlio iki darbuotojo" seminaras Tauragėje "Prekyba žmonėmis ir darbinis išnaudojimas - kaip atpažinti ir padėti?" - Organizatorius: KOPŽI
DESCRIPTION:
URL:https://anti-trafficking.lt/renginiai/amerikos-ambasados-projekto-strategine-partneryste-nuo-pabegelio-iki-darbuotojo-seminaras-taurageje-prekyba-zmonemis-ir-darbinis-isnaudojimas-kaip-atpazinti-ir-padeti-organizatorius-kop/
LOCATION:Tauragė\, Lietuva
CATEGORIES:Seminaras
END:VEVENT
BEGIN:VEVENT
DTSTART;VALUE=DATE:20240220
DTEND;VALUE=DATE:20240221
DTSTAMP:20260423T022939
CREATED:20240226T070956Z
LAST-MODIFIED:20240226T070956Z
UID:25510-1708387200-1708473599@anti-trafficking.lt
SUMMARY:Paskaita "Prekyba žmonėmis Lietuvoje - kaip atpažinti?" Lietuvos medicinos studentų asociacijos Kauno sk. - Organizatorius: LIMSA
DESCRIPTION:
URL:https://anti-trafficking.lt/renginiai/paskaita-prekyba-zmonemis-lietuvoje-kaip-atpazinti-lietuvos-medicinos-studentu-asociacijos-kauno-sk-organizatorius-limsa/
LOCATION:Kaunas\, Lietuva
CATEGORIES:Paskaita
END:VEVENT
BEGIN:VEVENT
DTSTART;VALUE=DATE:20240220
DTEND;VALUE=DATE:20240221
DTSTAMP:20260423T022939
CREATED:20240224T143942Z
LAST-MODIFIED:20240224T143942Z
UID:25398-1708387200-1708473599@anti-trafficking.lt
SUMMARY:Amerikos ambasados projekto "Strateginė partnerystė: Nuo pabėgėlio iki darbuotojo" seminaras Marijampolėje "Prekyba žmonėmis ir darbinis išnaudojimas - kaip atpažinti ir padėti?"  - Organizatorius: KOPŽI
DESCRIPTION:
URL:https://anti-trafficking.lt/renginiai/amerikos-ambasados-projekto-strategine-partneryste-nuo-pabegelio-iki-darbuotojo-seminaras-marijampoleje-prekyba-zmonemis-ir-darbinis-isnaudojimas-kaip-atpazinti-ir-padeti-organizat/
LOCATION:Marijampolė\, Lietuva
CATEGORIES:Seminaras
END:VEVENT
BEGIN:VEVENT
DTSTART;VALUE=DATE:20240215
DTEND;VALUE=DATE:20240216
DTSTAMP:20260423T022939
CREATED:20240218T092548Z
LAST-MODIFIED:20240218T092609Z
UID:25377-1707955200-1708041599@anti-trafficking.lt
SUMMARY:Seminaras "Seksualinės prievartos trauma" - Organizatorius: KOPŽI
DESCRIPTION:
URL:https://anti-trafficking.lt/renginiai/seminaras-seksualines-prievartos-trauma-klaipedoje-organizatorius-kopzi/
LOCATION:Klaipėda\, Lietuva
CATEGORIES:Seminaras
END:VEVENT
BEGIN:VEVENT
DTSTART;VALUE=DATE:20240208
DTEND;VALUE=DATE:20240209
DTSTAMP:20260423T022939
CREATED:20240227T190301Z
LAST-MODIFIED:20240227T190301Z
UID:25626-1707350400-1707436799@anti-trafficking.lt
SUMMARY:Paskaita "Prekyba žmonėmis - prevencija\, formos" Kuršėnų Pavenčių mokykloje-daugiafunkciniame centre - Organizatorius:  Kuršėnų Pavenčių mokykla
DESCRIPTION:
URL:https://anti-trafficking.lt/renginiai/paskaita-prekyba-zmonemis-prevencija-formos-kursenu-pavenciu-mokykloje-daugiafunkciniame-centre-organizatorius-kursenu-pavenciu-mokykla/
LOCATION:Kuršėnai\, Lietuva
CATEGORIES:Paskaita
END:VEVENT
BEGIN:VEVENT
DTSTART;VALUE=DATE:20240125
DTEND;VALUE=DATE:20240126
DTSTAMP:20260423T022939
CREATED:20240125T072853Z
LAST-MODIFIED:20240126T073213Z
UID:25321-1706140800-1706227199@anti-trafficking.lt
SUMMARY:Pasitarimas dėl NVO bendradarbiavimo su teisėsauga Vidaus reikalų ministerijoje. Organizatorius: VRM
DESCRIPTION:
URL:https://anti-trafficking.lt/renginiai/pasitarimas-del-nvo-bendradarbiavimo-su-teisesauga-vidaus-reikalu-ministerijoje-organizatorius-vrm/
LOCATION:Vidaus reikalų ministerija\, Lietuva
CATEGORIES:Pasitarimas
END:VEVENT
BEGIN:VEVENT
DTSTART;VALUE=DATE:20231221
DTEND;VALUE=DATE:20231222
DTSTAMP:20260423T022939
CREATED:20231223T141441Z
LAST-MODIFIED:20240126T073315Z
UID:24838-1703116800-1703203199@anti-trafficking.lt
SUMMARY:Mokymai online "Migrantai iš Ukrainos: pažeidžiami ir išnaudojami" - Organizatorius: KOPŽI
DESCRIPTION:Organizatorius: KOPŽI\, Marijampolės savivaldybė
URL:https://anti-trafficking.lt/renginiai/mokymai-online-migrantai-is-ukrainos-pazeidziami-ir-isnaudojami/
LOCATION:Marijampolės savivaldybė\, Lietuva
CATEGORIES:Mokymai
END:VEVENT
BEGIN:VEVENT
DTSTART;VALUE=DATE:20231215
DTEND;VALUE=DATE:20231216
DTSTAMP:20260423T022939
CREATED:20231223T141559Z
LAST-MODIFIED:20231224T074419Z
UID:24840-1702598400-1702684799@anti-trafficking.lt
SUMMARY:Tarptautinė konferencija "Migrantai iš Ukrainos Lietuvos darbo rinkoje" - Organizatorius: Lietuvos profesinių sąjungų Aljansas\, Amerikos ambasada
DESCRIPTION:Organizatorius: Lietuvos profesinių sąjungų Aljansas\, Amerikos ambasada
URL:https://anti-trafficking.lt/renginiai/tarptautine-konferencija-migrantai-is-ukrainos-lietuvos-darbo-rinkoje/
LOCATION:LR Seimas\, Vilnius\,\, Lietuva
CATEGORIES:Konferencija
END:VEVENT
END:VCALENDAR