BEGIN:VCALENDAR
VERSION:2.0
PRODID:-//KOPŽI - ECPv6.2.8.2//NONSGML v1.0//EN
CALSCALE:GREGORIAN
METHOD:PUBLISH
X-WR-CALNAME:KOPŽI
X-ORIGINAL-URL:https://anti-trafficking.lt
X-WR-CALDESC:Events for KOPŽI
REFRESH-INTERVAL;VALUE=DURATION:PT1H
X-Robots-Tag:noindex
X-PUBLISHED-TTL:PT1H
BEGIN:VTIMEZONE
TZID:Europe/Vilnius
BEGIN:DAYLIGHT
TZOFFSETFROM:+0200
TZOFFSETTO:+0300
TZNAME:EEST
DTSTART:20240331T010000
END:DAYLIGHT
BEGIN:STANDARD
TZOFFSETFROM:+0300
TZOFFSETTO:+0200
TZNAME:EET
DTSTART:20241027T010000
END:STANDARD
END:VTIMEZONE
BEGIN:VEVENT
DTSTART;VALUE=DATE:20241218
DTEND;VALUE=DATE:20241219
DTSTAMP:20260423T130525
CREATED:20241210T174805Z
LAST-MODIFIED:20241210T174805Z
UID:26382-1734480000-1734566399@anti-trafficking.lt
SUMMARY:Filmo "Olegas" peržiūra Pasvalio kultūros centre - Organizatorius: KOPŽI
DESCRIPTION:
URL:https://anti-trafficking.lt/renginiai/filmo-olegas-perziura-pasvalio-kulturos-centre-organizatorius-kopzi/
LOCATION:Pasvalys\, Lithuania
CATEGORIES:Renginys
END:VEVENT
BEGIN:VEVENT
DTSTART;VALUE=DATE:20241214
DTEND;VALUE=DATE:20241215
DTSTAMP:20260423T130525
CREATED:20241210T174940Z
LAST-MODIFIED:20241210T174940Z
UID:26384-1734134400-1734220799@anti-trafficking.lt
SUMMARY:Filmo "Olegas" peržiūra Skaudvilės kultūros namuose - Organizatorius: KOPŽI
DESCRIPTION:
URL:https://anti-trafficking.lt/renginiai/filmo-olegas-perziura-skaudviles-kulturos-namuose-organizatorius-kopzi/
LOCATION:Skaudvilė\, Lithuania
CATEGORIES:Renginys
END:VEVENT
BEGIN:VEVENT
DTSTART;VALUE=DATE:20241213
DTEND;VALUE=DATE:20241214
DTSTAMP:20260423T130525
CREATED:20241227T123550Z
LAST-MODIFIED:20241230T101749Z
UID:26406-1734048000-1734134399@anti-trafficking.lt
SUMMARY:Lietuvos advokatūros šventinis renginys Vilniuje – Organizatorius: Lietuvos advokatūra
DESCRIPTION:2024.12.13 Lietuvos advokatūros šventinis renginys – Organizatorius: Lietuvos advokatūra
URL:https://anti-trafficking.lt/renginiai/lietuvos-advokaturos-sventinis-renginys-organizatorius-lietuvos-advokatura/
LOCATION:Vilnius\, Lietuva
CATEGORIES:Renginys
END:VEVENT
BEGIN:VEVENT
DTSTART;VALUE=DATE:20241212
DTEND;VALUE=DATE:20241213
DTSTAMP:20260423T130525
CREATED:20241227T123453Z
LAST-MODIFIED:20241227T123453Z
UID:26404-1733961600-1734047999@anti-trafficking.lt
SUMMARY:Paskaita apie prekybą žmonėmis ir seksualinę prievartą Panevėžio rajono seniūnijų socialiniams darbuotojams ir atvejo vadybininkams - Organizatorius: Panevėžio rajono savivaldybė
DESCRIPTION:2024.12.12 Paskaita apie prekybą žmonėmis ir seksualinę prievartą Panevėžio rajono seniūnijų socialiniams darbuotojams ir atvejo vadybininkams – Organizatorius: Panevėžio rajono savivaldybė
URL:https://anti-trafficking.lt/renginiai/paskaita-apie-prekyba-zmonemis-ir-seksualine-prievarta-panevezio-rajono-seniuniju-socialiniams-darbuotojams-ir-atvejo-vadybininkams-organizatorius-panevezio-rajono-savivaldybe/
LOCATION:Panevėžys\, Lietuva
CATEGORIES:Paskaita
END:VEVENT
BEGIN:VEVENT
DTSTART;VALUE=DATE:20241205
DTEND;VALUE=DATE:20241206
DTSTAMP:20260423T130525
CREATED:20241212T053003Z
LAST-MODIFIED:20241212T053003Z
UID:26387-1733356800-1733443199@anti-trafficking.lt
SUMMARY:Paskaitos "Apsaugok save ir kitus: prekyba žmonėmis pavojai ir prevencija" Kupiškio socialinių paslaugų centre - Organizatorius: Kupiškio socialinių paslaugų centras\, KOPŽI
DESCRIPTION:2024.12.05 Paskaitos „Apsaugok save ir kitus: prekyba žmonėmis pavojai ir prevencija” Kupiškio socialinių paslaugų centre – Organizatorius: Kupiškio socialinių paslaugų centras\, KOPŽI
URL:https://anti-trafficking.lt/renginiai/paskaitos-apsaugok-save-ir-kitus-prekyba-zmonemis-pavojai-ir-prevencija-kupiskio-socialiniu-paslaugu-centre-organizatorius-kupiskio-socialiniu-paslaugu-centras-kopzi/
LOCATION:Kupiškis\, Lithuania
CATEGORIES:Paskaita
END:VEVENT
BEGIN:VEVENT
DTSTART;VALUE=DATE:20241204
DTEND;VALUE=DATE:20241205
DTSTAMP:20260423T130525
CREATED:20241219T034555Z
LAST-MODIFIED:20241219T034555Z
UID:26399-1733270400-1733356799@anti-trafficking.lt
SUMMARY:Filmo "Olegas" peržiūra Jonavos kultūros centre - Organizatorius: KOPŽI
DESCRIPTION:2024.12.04 Filmo „Olegas” peržiūra Jonavos kultūros centre – Organizatorius: KOPŽI
URL:https://anti-trafficking.lt/renginiai/filmo-olegas-perziura-jonavos-kulturos-centre-organizatorius-kopzi/
LOCATION:Jonava\, Lietuva
CATEGORIES:Renginys
END:VEVENT
BEGIN:VEVENT
DTSTART;VALUE=DATE:20241202
DTEND;VALUE=DATE:20241203
DTSTAMP:20260423T130525
CREATED:20241206T004151Z
LAST-MODIFIED:20241206T004151Z
UID:26364-1733097600-1733183999@anti-trafficking.lt
SUMMARY:Tarptautinė konferencija "Karo trauma ir moterų žmogaus teisių apsauga: Moterų žmogaus teisės Lietuvoje 2024" Seime - Organizatorius: Vilniaus moterų namai\, LR Seimas
DESCRIPTION:2024.12.02 Tarptautinė konferencija „Karo trauma ir moterų žmogaus teisių apsauga: Moterų žmogaus teisės Lietuvoje 2024″ Seime – Organizatorius: Vilniaus moterų namai\, LR Seimas
URL:https://anti-trafficking.lt/renginiai/tarptautine-konferencija-karo-trauma-ir-moteru-zmogaus-teisiu-apsauga-moteru-zmogaus-teises-lietuvoje-2024-seime-organizatorius-vilniaus-moteru-namai-lr-seimas/
LOCATION:Vilnius\, Lietuva
CATEGORIES:Konferencija
END:VEVENT
BEGIN:VEVENT
DTSTART;VALUE=DATE:20241129
DTEND;VALUE=DATE:20241130
DTSTAMP:20260423T130525
CREATED:20241206T004013Z
LAST-MODIFIED:20241206T004013Z
UID:26362-1732838400-1732924799@anti-trafficking.lt
SUMMARY:Tarptautinė konferencija "Mental Health of Ukrainians and Lithuanians in the Condition of War: Challenges and Solutions" Vilniuje - Organizatorius: Ukreate Hub
DESCRIPTION:2024.11.29 Tarptautinė konferencija „Mental Health of Ukrainians and Lithuanians in the Condition of War: Challenges and Solutions” Vilniuje – Organizatorius: Ukreate Hub
URL:https://anti-trafficking.lt/renginiai/tarptautine-konferencija-mental-health-of-ukrainians-and-lithuanians-in-the-condition-of-war-challenges-and-solutions-vilniuje-organizatorius-ukreate-hub/
LOCATION:Vilnius\, Lietuva
CATEGORIES:Konferencija
END:VEVENT
BEGIN:VEVENT
DTSTART;VALUE=DATE:20241125
DTEND;VALUE=DATE:20241126
DTSTAMP:20260423T130525
CREATED:20241227T123733Z
LAST-MODIFIED:20241227T123733Z
UID:26408-1732492800-1732579199@anti-trafficking.lt
SUMMARY:Konferencija "Saugumo kultūra: kaip gerinti moterų saugumą viešose erdvėse?" Seime - Organizatorius: VšĮ "Versli mama"
DESCRIPTION:2024.11.25 Konferencija „Saugumo kultūra: kaip gerinti moterų saugumą viešose erdvėse?” Seime – Organizatorius: VšĮ „Versli mama” \n\n\n 
URL:https://anti-trafficking.lt/renginiai/konferencija-saugumo-kultura-kaip-gerinti-moteru-sauguma-viesose-erdvese-seime-organizatorius-vsi-versli-mama/
CATEGORIES:Konferencija
END:VEVENT
BEGIN:VEVENT
DTSTART;VALUE=DATE:20241122
DTEND;VALUE=DATE:20241123
DTSTAMP:20260423T130525
CREATED:20250113T212927Z
LAST-MODIFIED:20250113T212927Z
UID:26418-1732233600-1732319999@anti-trafficking.lt
SUMMARY:Akcija Raseinių r. Viduklės Simono Stanevičiaus gimnazijoje "Ką žinau apie prekybą žmonėmis?" - Organizatorius: KOPŽI
DESCRIPTION:2024.11.22 Akcija Raseinių r. Viduklės Simono Stanevičiaus gimnazijoje „Ką žinau apie prekybą žmonėmis?” – Organizatorius: KOPŽI
URL:https://anti-trafficking.lt/renginiai/akcija-raseiniu-r-vidukles-simono-staneviciaus-gimnazijoje-ka-zinau-apie-prekyba-zmonemis-organizatorius-kopzi/
LOCATION:Raseinių rajonas\, Lithuania
CATEGORIES:Susitikimas
END:VEVENT
BEGIN:VEVENT
DTSTART;VALUE=DATE:20241115
DTEND;VALUE=DATE:20241116
DTSTAMP:20260423T130525
CREATED:20241130T021844Z
LAST-MODIFIED:20241130T021844Z
UID:26344-1731628800-1731715199@anti-trafficking.lt
SUMMARY:Akcija Jurbarko Antano Giedraičio-Giedriaus gimnazijoje "Ką žinau apie prekybą žmonėmis?" - Organizatorius: Antano Giedraičio-Giedriaus gimnazija\, KOPŽI
DESCRIPTION:
URL:https://anti-trafficking.lt/renginiai/akcija-jurbarko-antano-giedraicio-giedriaus-gimnazijoje-ka-zinau-apie-prekyba-zmonemis-organizatorius-antano-giedraicio-giedriaus-gimnazija-kopzi/
LOCATION:Jurbarkas\, Lietuva
END:VEVENT
BEGIN:VEVENT
DTSTART;VALUE=DATE:20241112
DTEND;VALUE=DATE:20241113
DTSTAMP:20260423T130525
CREATED:20241130T021803Z
LAST-MODIFIED:20241130T021803Z
UID:26342-1731369600-1731455999@anti-trafficking.lt
SUMMARY:Konferencija "Kova su prekyba žmonėmis ir seksualine prievarta: bendruomenės ir profesionalų atsakas" Seimo lankytojų centre\, Vilniuje - Organizatorius: KOPŽI\, HEROES projektas\, LR Seimas
DESCRIPTION:
URL:https://anti-trafficking.lt/renginiai/konferencija-kova-su-prekyba-zmonemis-ir-seksualine-prievarta-bendruomenes-ir-profesionalu-atsakas-seimo-lankytoju-centre-vilniuje-organizatorius-kopzi-heroes-projektas-lr-seimas/
LOCATION:Vilnius\, Lietuva
CATEGORIES:Konferencija
END:VEVENT
BEGIN:VEVENT
DTSTART;VALUE=DATE:20241112
DTEND;VALUE=DATE:20241113
DTSTAMP:20260423T130525
CREATED:20241130T021721Z
LAST-MODIFIED:20241130T021721Z
UID:26340-1731369600-1731455999@anti-trafficking.lt
SUMMARY:Prevencinė paskaita "Motinos Teresės šeimų namuose" Šiauliuose - Organizatorius: "Motinos Teresės šeimų namai"\, KOPŽI
DESCRIPTION:
URL:https://anti-trafficking.lt/renginiai/prevencine-paskaita-motinos-tereses-seimu-namuose-siauliuose-organizatorius-motinos-tereses-seimu-namai-kopzi/
LOCATION:Šiauliai\, Lietuva
CATEGORIES:Paskaita
END:VEVENT
BEGIN:VEVENT
DTSTART;VALUE=DATE:20241024
DTEND;VALUE=DATE:20241025
DTSTAMP:20260423T130525
CREATED:20241130T021633Z
LAST-MODIFIED:20241130T021633Z
UID:26337-1729728000-1729814399@anti-trafficking.lt
SUMMARY:Akcija Šilalės Simono Gaudėšiaus gimnazijoje "Ką žinau apie prekybą žmonėmis?" - Organizatorius: Simono Gaudėšiaus gimnazija\, KOPŽI
DESCRIPTION:
URL:https://anti-trafficking.lt/renginiai/akcija-silales-simono-gaudesiaus-gimnazijoje-ka-zinau-apie-prekyba-zmonemis-organizatorius-simono-gaudesiaus-gimnazija-kopzi/
LOCATION:Šilalė\, Lithuania
END:VEVENT
BEGIN:VEVENT
DTSTART;VALUE=DATE:20241024
DTEND;VALUE=DATE:20241025
DTSTAMP:20260423T130525
CREATED:20241130T021519Z
LAST-MODIFIED:20241130T021519Z
UID:26335-1729728000-1729814399@anti-trafficking.lt
SUMMARY:Ciklo "Dekonstruojame prostituciją" diskusija Kaune "Moterys ir mergaitės prostitucijoje Lietuvoje: paslaugos ar išnaudojimas? Kodėl auga moterų iš Ukrainos skaičiai prostitucijoje?" - Organizatorius: FRIDA\, KOPŽI
DESCRIPTION:
URL:https://anti-trafficking.lt/renginiai/ciklo-dekonstruojame-prostitucija-diskusija-kaune-moterys-ir-mergaites-prostitucijoje-lietuvoje-paslaugos-ar-isnaudojimas-kodel-auga-moteru-is-ukrainos-skaiciai-prostitucijoje-organizator/
LOCATION:Kaunas\, Lietuva
CATEGORIES:Diskusija
END:VEVENT
BEGIN:VEVENT
DTSTART;VALUE=DATE:20241017
DTEND;VALUE=DATE:20241018
DTSTAMP:20260423T130525
CREATED:20241130T021427Z
LAST-MODIFIED:20241130T021427Z
UID:26333-1729123200-1729209599@anti-trafficking.lt
SUMMARY:Paskaitos Jonavos politechnikos mokykloje "Prekyba žmonėmis - kaip atpažinti ir apsisaugoti?" - Organizatorius: Jonavos politechnikos mokykla\, Jonavos PK bendruomenės pareigūnai\, KOPŽI
DESCRIPTION:
URL:https://anti-trafficking.lt/renginiai/paskaitos-jonavos-politechnikos-mokykloje-prekyba-zmonemis-kaip-atpazinti-ir-apsisaugoti-organizatorius-jonavos-politechnikos-mokykla-jonavos-pk-bendruomenes-pareigunai-kopzi/
LOCATION:Jonava\, Lietuva
CATEGORIES:Paskaita
END:VEVENT
BEGIN:VEVENT
DTSTART;VALUE=DATE:20241017
DTEND;VALUE=DATE:20241018
DTSTAMP:20260423T130525
CREATED:20241130T021325Z
LAST-MODIFIED:20241130T021325Z
UID:26331-1729123200-1729209599@anti-trafficking.lt
SUMMARY:Akcija Tauragės profesinio rengimo centre "Ką žinau apie prekybą žmonėmis?" - Organizatorius: KOPŽI\, Tauragės profesinio rengimo centras\, Tauragės AVPK
DESCRIPTION:
URL:https://anti-trafficking.lt/renginiai/akcija-taurages-profesinio-rengimo-centre-ka-zinau-apie-prekyba-zmonemis-organizatorius-kopzi-taurages-profesinio-rengimo-centras-taurages-avpk/
LOCATION:Tauragė\, Lietuva
END:VEVENT
BEGIN:VEVENT
DTSTART;VALUE=DATE:20241007
DTEND;VALUE=DATE:20241008
DTSTAMP:20260423T130525
CREATED:20241130T021224Z
LAST-MODIFIED:20241130T021224Z
UID:26329-1728259200-1728345599@anti-trafficking.lt
SUMMARY:Akcija prie LR Seimo "Seksualinis smurtas prieš moteris: Už mūsų tylą moka aukos" - Organizatorius: Vilniaus Moterų namai\, KOPŽI
DESCRIPTION:
URL:https://anti-trafficking.lt/renginiai/akcija-prie-lr-seimo-seksualinis-smurtas-pries-moteris-uz-musu-tyla-moka-aukos-organizatorius-vilniaus-moteru-namai-kopzi/
LOCATION:Vilnius\, Lietuva
END:VEVENT
BEGIN:VEVENT
DTSTART;VALUE=DATE:20240926
DTEND;VALUE=DATE:20240927
DTSTAMP:20260423T130525
CREATED:20240831T201510Z
LAST-MODIFIED:20240831T201510Z
UID:26133-1727308800-1727395199@anti-trafficking.lt
SUMMARY:Konferencija “Užverbuoti nusikaltimams: prekybos žmonėmis nusikaltimų darymui aukų identifikavimas ir iššūkiai teikiant pagalbą” Šiauliuse\, Organizatorius: KOPŽI\, NAPPŽ
DESCRIPTION:
URL:https://anti-trafficking.lt/renginiai/konferencija-uzverbuoti-nusikaltimams-prekybos-zmonemis-nusikaltimu-darymui-auku-identifikavimas-ir-issukiai-teikiant-pagalba-siauliuse-organizatorius-kopzi-nappz/
LOCATION:Šiauliai\, Lietuva
CATEGORIES:Konferencija
END:VEVENT
BEGIN:VEVENT
DTSTART;VALUE=DATE:20240919
DTEND;VALUE=DATE:20240920
DTSTAMP:20260423T130525
CREATED:20240831T201105Z
LAST-MODIFIED:20241206T004420Z
UID:26126-1726704000-1726790399@anti-trafficking.lt
SUMMARY:Konferencija "Prekyba žmonėmis: suprasti\, užkirsti kelią ir padėti aukoms" Akmenėje - Organizatorius: KOPŽI ir Akmenės VSB
DESCRIPTION:
URL:https://anti-trafficking.lt/renginiai/konferencija-prekyba-zmonemis-suprasti-uzkirsti-kelia-ir-padeti-aukoms-siauliuose-organizatorius-kopzi-ir-akmenes-vsb/
LOCATION:Akmenė\, Lithuania
CATEGORIES:Konferencija
END:VEVENT
BEGIN:VEVENT
DTSTART;VALUE=DATE:20240730
DTEND;VALUE=DATE:20240731
DTSTAMP:20260423T130525
CREATED:20240831T201250Z
LAST-MODIFIED:20240831T201250Z
UID:26129-1722297600-1722383999@anti-trafficking.lt
SUMMARY:Amerikos ambasados projekto “Strateginė partnerystė: Nuo pabėgėlio iki darbuotojo” seminaras Šakių rajone “Prekyba žmonėmis ir darbinis išnaudojimas – kaip atpažinti ir padėti?” – Organizatorius: KOPŽI
DESCRIPTION:
URL:https://anti-trafficking.lt/renginiai/amerikos-ambasados-projekto-strategine-partneryste-nuo-pabegelio-iki-darbuotojo-seminaras-sakiu-rajone-prekyba-zmonemis-ir-darbinis-isnaudojimas-kaip-atpazinti-ir/
LOCATION:Šakių rajonas\, Lietuva
CATEGORIES:Seminaras
END:VEVENT
BEGIN:VEVENT
DTSTART;VALUE=DATE:20240621
DTEND;VALUE=DATE:20240622
DTSTAMP:20260423T130525
CREATED:20240622T173439Z
LAST-MODIFIED:20240622T173439Z
UID:26015-1718928000-1719014399@anti-trafficking.lt
SUMMARY:Apskrito stalo diskusija „Migrantai darbinėje vergovėje – kaip galime jiems padėti?” Vilniuje – Organizatorius: KOPŽI\, Sienos grupė
DESCRIPTION:
URL:https://anti-trafficking.lt/renginiai/apskrito-stalo-diskusija-migrantai-darbineje-vergoveje-kaip-galime-jiems-padeti-vilniuje-organizatorius-kopzi-sienos-grupe/
LOCATION:Vilnius\, Lietuva
CATEGORIES:Diskusija
END:VEVENT
BEGIN:VEVENT
DTSTART;VALUE=DATE:20240619
DTEND;VALUE=DATE:20240620
DTSTAMP:20260423T130525
CREATED:20240620T135929Z
LAST-MODIFIED:20240620T135929Z
UID:26008-1718755200-1718841599@anti-trafficking.lt
SUMMARY:Diskusija "Šiaulių apskrities institucijų ir organizacijų susitikimas aptarti prekybos žmonėmis aukoms teikiamos pagalbos vietoje aktualijas bei prekybos žmonėmis prevencijos poreikius ir galimybes" Šiaulių rajono savivaldybėje - Organizatorius: NAPPŽ
DESCRIPTION:
URL:https://anti-trafficking.lt/renginiai/diskusija-siauliu-apskrities-instituciju-ir-organizaciju-susitikimas-aptarti-prekybos-zmonemis-aukoms-teikiamos-pagalbos-vietoje-aktualijas-bei-prekybos-zmonemis-prevencijos-poreikius-ir-galimybes/
LOCATION:Šiaulių rajono savivaldybė\, Lietuva
CATEGORIES:Diskusija
END:VEVENT
BEGIN:VEVENT
DTSTART;VALUE=DATE:20240612
DTEND;VALUE=DATE:20240613
DTSTAMP:20260423T130525
CREATED:20240612T155722Z
LAST-MODIFIED:20240612T155722Z
UID:25983-1718150400-1718236799@anti-trafficking.lt
SUMMARY:Amerikos ambasados projekto "Strateginė partnerystė: Nuo pabėgėlio iki darbuotojo" seminaras Plungėje "Prekyba žmonėmis ir darbinis išnaudojimas - kaip atpažinti ir padėti?" - Organizatorius: KOPŽI
DESCRIPTION:
URL:https://anti-trafficking.lt/renginiai/amerikos-ambasados-projekto-strategine-partneryste-nuo-pabegelio-iki-darbuotojo-seminaras-plungeje-prekyba-zmonemis-ir-darbinis-isnaudojimas-kaip-atpazinti-ir-padeti-organizatorius-kopz/
LOCATION:Plungė\, Lietuva
CATEGORIES:Seminaras
END:VEVENT
BEGIN:VEVENT
DTSTART;VALUE=DATE:20240610
DTEND;VALUE=DATE:20240611
DTSTAMP:20260423T130525
CREATED:20240610T194336Z
LAST-MODIFIED:20240610T194336Z
UID:25973-1717977600-1718063999@anti-trafficking.lt
SUMMARY:Paskaita "Seksualinis smurtas prieš vaikus artimoje aplinkoje" Panevėžio švietimo centre - Organizatorius: KOPŽI\, Panevėžio švietimo centras
DESCRIPTION:
URL:https://anti-trafficking.lt/renginiai/paskaita-seksualinis-smurtas-pries-vaikus-artimoje-aplinkoje-panevezio-svietimo-centre-organizatorius-kopzi-panevezio-svietimo-centras/
LOCATION:Panevėžys\, Lietuva
CATEGORIES:Paskaita
END:VEVENT
BEGIN:VEVENT
DTSTART;VALUE=DATE:20240523
DTEND;VALUE=DATE:20240524
DTSTAMP:20260423T130525
CREATED:20240527T120251Z
LAST-MODIFIED:20240527T120251Z
UID:25966-1716422400-1716508799@anti-trafficking.lt
SUMMARY:Apskrito stalo diskusija "Migrantai darbinėje vergovėje - kaip galime jiems padėti?" Vilniuje - Organizatorius: KOPŽI\, Lietuvos profesinių sąjungų Aljansas
DESCRIPTION:
URL:https://anti-trafficking.lt/renginiai/apskrito-stalo-diskusija-migrantai-darbineje-vergoveje-kaip-galime-jiems-padeti-vilniuje-organizatorius-kopzi-lietuvos-profesiniu-sajungu-aljansas/
LOCATION:Vilnius\, Lietuva
CATEGORIES:Diskusija
END:VEVENT
BEGIN:VEVENT
DTSTART;VALUE=DATE:20240520
DTEND;VALUE=DATE:20240521
DTSTAMP:20260423T130525
CREATED:20240702T195827Z
LAST-MODIFIED:20240702T195827Z
UID:26055-1716163200-1716249599@anti-trafficking.lt
SUMMARY:Amerikos ambasados projekto „Strateginė partnerystė: Nuo pabėgėlio iki darbuotojo” seminaras Jonavoje „Prekyba žmonėmis ir darbinis išnaudojimas – kaip atpažinti ir padėti?” – Organizatorius: KOPŽI
DESCRIPTION:
URL:https://anti-trafficking.lt/renginiai/amerikos-ambasados-projekto-strategine-partneryste-nuo-pabegelio-iki-darbuotojo-seminaras-jonavoje-prekyba-zmonemis-ir-darbinis-isnaudojimas-kaip-atpazinti-ir-pad/
LOCATION:Jonava\, Lietuva
CATEGORIES:Projektas
END:VEVENT
BEGIN:VEVENT
DTSTART;VALUE=DATE:20240517
DTEND;VALUE=DATE:20240518
DTSTAMP:20260423T130525
CREATED:20240521T134527Z
LAST-MODIFIED:20240521T134527Z
UID:25951-1715904000-1715990399@anti-trafficking.lt
SUMMARY:Konferencija "Vaikystėje patirtas seksualinis smurtas ir jo pažymėti gyvenimai. Ar esame pasiruošę šią problemą pripažinti ir spręsti?" Seime - Organizatorius: Vilniaus Moterų namai
DESCRIPTION:
URL:https://anti-trafficking.lt/renginiai/konferencija-vaikysteje-patirtas-seksualinis-smurtas-ir-jo-pazymeti-gyvenimai-ar-esame-pasiruose-sia-problema-pripazinti-ir-spresti-seime-organizatorius-vilniaus-moteru-namai/
LOCATION:Vilnius\, Lietuva
CATEGORIES:Konferencija
END:VEVENT
BEGIN:VEVENT
DTSTART;VALUE=DATE:20240514
DTEND;VALUE=DATE:20240515
DTSTAMP:20260423T130525
CREATED:20240702T195700Z
LAST-MODIFIED:20240702T195723Z
UID:26050-1715644800-1715731199@anti-trafficking.lt
SUMMARY:Amerikos ambasados projekto „Strateginė partnerystė: Nuo pabėgėlio iki darbuotojo” seminaras Mažeikiuose „Prekyba žmonėmis ir darbinis išnaudojimas – kaip atpažinti ir padėti?” – Organizatorius: KOPŽI
DESCRIPTION:
URL:https://anti-trafficking.lt/renginiai/2024-05-14-amerikos-ambasados-projekto-strategine-partneryste-nuo-pabegelio-iki-darbuotojo-seminaras-mazeikiuose-prekyba-zmonemis-ir-darbinis-isnaudojimas-ka/
LOCATION:Mažeikiai\, Lietuva
CATEGORIES:Projektas
END:VEVENT
BEGIN:VEVENT
DTSTART;VALUE=DATE:20240508
DTEND;VALUE=DATE:20240509
DTSTAMP:20260423T130525
CREATED:20240517T070734Z
LAST-MODIFIED:20240517T070734Z
UID:25948-1715126400-1715212799@anti-trafficking.lt
SUMMARY:Konferencija "Užverbuoti nusikaltimams: prekybos žmonėmis nusikaltimų darymui aukų identifikavimas ir iššūkiai teikiant pagalbą" Kauno apygardos teisme\, Organizatorius: KOPŽI\, NAPPŽ
DESCRIPTION:
URL:https://anti-trafficking.lt/renginiai/konferencija-uzverbuoti-nusikaltimams-prekybos-zmonemis-nusikaltimu-darymui-auku-identifikavimas-ir-issukiai-teikiant-pagalba-kauno-apygardos-teisme-organizatorius-kopzi-nappz/
LOCATION:Kaunas\, Lietuva
CATEGORIES:Konferencija
END:VEVENT
END:VCALENDAR