BEGIN:VCALENDAR
VERSION:2.0
PRODID:-//KOPŽI - ECPv6.2.8.2//NONSGML v1.0//EN
CALSCALE:GREGORIAN
METHOD:PUBLISH
X-WR-CALNAME:KOPŽI
X-ORIGINAL-URL:https://anti-trafficking.lt
X-WR-CALDESC:Events for KOPŽI
REFRESH-INTERVAL;VALUE=DURATION:PT1H
X-Robots-Tag:noindex
X-PUBLISHED-TTL:PT1H
BEGIN:VTIMEZONE
TZID:Europe/Vilnius
BEGIN:DAYLIGHT
TZOFFSETFROM:+0200
TZOFFSETTO:+0300
TZNAME:EEST
DTSTART:20240331T010000
END:DAYLIGHT
BEGIN:STANDARD
TZOFFSETFROM:+0300
TZOFFSETTO:+0200
TZNAME:EET
DTSTART:20241027T010000
END:STANDARD
BEGIN:DAYLIGHT
TZOFFSETFROM:+0200
TZOFFSETTO:+0300
TZNAME:EEST
DTSTART:20250330T010000
END:DAYLIGHT
BEGIN:STANDARD
TZOFFSETFROM:+0300
TZOFFSETTO:+0200
TZNAME:EET
DTSTART:20251026T010000
END:STANDARD
END:VTIMEZONE
BEGIN:VEVENT
DTSTART;VALUE=DATE:20250516
DTEND;VALUE=DATE:20250517
DTSTAMP:20260422T030702
CREATED:20250426T105346Z
LAST-MODIFIED:20250426T105346Z
UID:26648-1747353600-1747439999@anti-trafficking.lt
SUMMARY:Apskrito stalo diskusija Kalvarijos savivaldybėje "Seksualinis smurtas prieš vaikus artimoje aplinkoje - šalia mūsų" - Organizatorius: KOPŽI
DESCRIPTION:2025.05.16 Apskrito stalo diskusija Kalvarijos savivaldybėje „Seksualinis smurtas prieš vaikus artimoje aplinkoje – šalia mūsų” – Organizatorius: KOPŽI
URL:https://anti-trafficking.lt/renginiai/apskrito-stalo-diskusija-kalvarijos-savivaldybeje-seksualinis-smurtas-pries-vaikus-artimoje-aplinkoje-salia-musu-organizatorius-kopzi/
LOCATION:Kalvarijos savivaldybė\, Lithuania
CATEGORIES:Diskusija
END:VEVENT
BEGIN:VEVENT
DTSTART;VALUE=DATE:20250506
DTEND;VALUE=DATE:20250507
DTSTAMP:20260422T030702
CREATED:20250414T155947Z
LAST-MODIFIED:20250414T155947Z
UID:26620-1746489600-1746575999@anti-trafficking.lt
SUMMARY:Konferencija Panevėžyje "Užverbuoti nusikaltimams: prekybos žmonėmis nusikaltimų darymui aukų identifikavimas ir iššūkiai teikiant pagalbą" - Organizatorius: KOPŽI
DESCRIPTION:2025.05.06 d. Konferencija Panevėžyje „Užverbuoti nusikaltimams: prekybos žmonėmis nusikaltimų darymui aukų identifikavimas ir iššūkiai teikiant pagalbą” – Organizatorius: KOPŽI
URL:https://anti-trafficking.lt/renginiai/konferencija-panevezyje-uzverbuoti-nusikaltimams-prekybos-zmonemis-nusikaltimu-darymui-auku-identifikavimas-ir-issukiai-teikiant-pagalba-organizatorius-kopzi/
LOCATION:Panevėžys\, Lietuva
CATEGORIES:Konferencija
END:VEVENT
BEGIN:VEVENT
DTSTART;VALUE=DATE:20250430
DTEND;VALUE=DATE:20250501
DTSTAMP:20260422T030702
CREATED:20250515T160000Z
LAST-MODIFIED:20250515T160000Z
UID:26747-1745971200-1746057599@anti-trafficking.lt
SUMMARY:Darbuotojų teisių kino ciklas "Kine kaip darbe": filmo "Olegas" peržiūra ir diskusija Vilniuje\, "Skalvijos" kino centre - Organizatorius: Lietuvos profesinių sąjungų konfederacija
DESCRIPTION:2025.04.30 Darbuotojų teisių kino ciklas „Kine kaip darbe”: filmo „Olegas” peržiūra ir diskusija Vilniuje\, „Skalvijos” kino centre – Organizatorius: Lietuvos profesinių sąjungų konfederacija
URL:https://anti-trafficking.lt/renginiai/darbuotoju-teisiu-kino-ciklas-kine-kaip-darbe-filmo-olegas-perziura-ir-diskusija-vilniuje-skalvijos-kino-centre-organizatorius-lietuvos-profesiniu-sajungu-konfederacija/
LOCATION:Vilnius\, Lietuva
CATEGORIES:Diskusija
END:VEVENT
BEGIN:VEVENT
DTSTART;VALUE=DATE:20250430
DTEND;VALUE=DATE:20250501
DTSTAMP:20260422T030702
CREATED:20250515T155834Z
LAST-MODIFIED:20250515T155834Z
UID:26745-1745971200-1746057599@anti-trafficking.lt
SUMMARY:Dalyvavome Seimo Žmogaus teisių komiteto posėdyje - Organizatorius: Seimo Žmogaus teisių komitetas
DESCRIPTION:2025.04.30 Dalyvavome Seimo Žmogaus teisių komiteto posėdyje – Organizatorius: Seimo Žmogaus teisių komitetas
URL:https://anti-trafficking.lt/renginiai/dalyvavome-seimo-zmogaus-teisiu-komiteto-posedyje-organizatorius-seimo-zmogaus-teisiu-komitetas/
LOCATION:Vilnius\, Lietuva
CATEGORIES:Renginys
END:VEVENT
BEGIN:VEVENT
DTSTART;VALUE=DATE:20250430
DTEND;VALUE=DATE:20250501
DTSTAMP:20260422T030702
CREATED:20250515T155700Z
LAST-MODIFIED:20250515T155700Z
UID:26743-1745971200-1746057599@anti-trafficking.lt
SUMMARY:Dalyvavome Seimo savižudybių ir smurto prevencijos komiteto posėdyje - Organizatorius: Seimo savižudybių ir smurto prevencijos komitetas
DESCRIPTION:2025.04.30 Dalyvavome Seimo savižudybių ir smurto prevencijos komiteto posėdyje – Organizatorius: Seimo savižudybių ir smurto prevencijos komitetas
URL:https://anti-trafficking.lt/renginiai/dalyvavome-seimo-savizudybiu-ir-smurto-prevencijos-komiteto-posedyje-organizatorius-seimo-savizudybiu-ir-smurto-prevencijos-komitetas/
LOCATION:Vilnius\, Lietuva
CATEGORIES:Renginys
END:VEVENT
BEGIN:VEVENT
DTSTART;VALUE=DATE:20250411
DTEND;VALUE=DATE:20250412
DTSTAMP:20260422T030702
CREATED:20250414T155656Z
LAST-MODIFIED:20250414T155656Z
UID:26616-1744329600-1744415999@anti-trafficking.lt
SUMMARY:Edukacinis renginys "Ar atpažįsti prekybą žmonėmis šalia tavęs?" Tauragės bendruomeninių šeimos namų auklėtinėms - Organizatorius: KOPŽI\, Tauragės AVPK
DESCRIPTION:2025.04.11 Edukacinis renginys „Ar atpažįsti prekybą žmonėmis šalia tavęs?” Tauragės bendruomeninių šeimos namų auklėtinėms – Organizatorius: KOPŽI\, Tauragės AVPK
URL:https://anti-trafficking.lt/renginiai/edukacinis-renginys-ar-atpazisti-prekyba-zmonemis-salia-taves-taurages-bendruomeniniu-seimos-namu-aukletinems-organizatorius-kopzi-taurages-avpk/
LOCATION:Tauragė\, Lietuva
CATEGORIES:Renginys
END:VEVENT
BEGIN:VEVENT
DTSTART;VALUE=DATE:20250409
DTEND;VALUE=DATE:20250410
DTSTAMP:20260422T030702
CREATED:20250414T155822Z
LAST-MODIFIED:20250414T155822Z
UID:26618-1744156800-1744243199@anti-trafficking.lt
SUMMARY:Apskrito stalo diskusija "Barnahus modelis\, skirtas teikti pagalbą vaikams\, seksualinio smurto prieš vaiką atvejais\, vaikams draugiškoje aplinkoje" Vilniuje - Organizatorius: Valstybės vaiko teisių apsaugos ir įvaikinimo tarnyba prie SADM
DESCRIPTION:2025.04.09 Apskrito stalo diskusija „Barnahus modelis\, skirtas teikti pagalbą vaikams\, seksualinio smurto prieš vaiką atvejais\, vaikams draugiškoje aplinkoje” Vilniuje – Organizatorius: Valstybės vaiko teisių apsaugos ir įvaikinimo tarnyba prie SADM
URL:https://anti-trafficking.lt/renginiai/apskrito-stalo-diskusija-barnahus-modelis-skirtas-teikti-pagalba-vaikams-seksualinio-smurto-pries-vaika-atvejais-vaikams-draugiskoje-aplinkoje-vilniuje-organizatorius-valstybes-vaiko-teisiu/
LOCATION:Vilnius\, Lietuva
CATEGORIES:Diskusija
END:VEVENT
BEGIN:VEVENT
DTSTART;VALUE=DATE:20250408
DTEND;VALUE=DATE:20250409
DTSTAMP:20260422T030702
CREATED:20250409T161304Z
LAST-MODIFIED:20250409T161304Z
UID:26586-1744070400-1744156799@anti-trafficking.lt
SUMMARY:Paskaita "Prekyba žmonėmis - identifikavimas ir pagalba nukentėjusiems" LR Užsienio reikalų ministerijoje išvykstantiems diplomatams - Organizatorius: LR URM Konsulinis departamentas
DESCRIPTION:2025.04.08 Paskaita „Prekyba žmonėmis – identifikavimas ir pagalba nukentėjusiems” LR Užsienio reikalų ministerijoje išvykstantiems diplomatams – Organizatorius: LR URM Konsulinis departamentas
URL:https://anti-trafficking.lt/renginiai/paskaita-prekyba-zmonemis-identifikavimas-ir-pagalba-nukentejusiems-lr-uzsienio-reikalu-ministerijoje-isvykstantiems-diplomatams-organizatorius-lr-urm-konsulinis-departamentas/
LOCATION:Vilnius\, Lietuva
CATEGORIES:Paskaita
END:VEVENT
BEGIN:VEVENT
DTSTART;VALUE=DATE:20250313
DTEND;VALUE=DATE:20250315
DTSTAMP:20260422T030702
CREATED:20250221T080334Z
LAST-MODIFIED:20250221T080444Z
UID:26493-1741824000-1741996799@anti-trafficking.lt
SUMMARY:Mokymai "Seksualinės prievartos trauma - išgirsti\, atpažinti ir padėti" Kaune - Organizatorius: KOPŽI\, projektas "Kompleksinė pagalba seksualinės prievartos aukoms iš Ukrainos" EEE/NOR. 2025.03.13-14 d.
DESCRIPTION:2025.03.13-14 d. Mokymai „Seksualinės prievartos trauma – išgirsti\, atpažinti ir padėti” Kaune – Organizatorius: KOPŽI\, projektas „Kompleksinė pagalba seksualinės prievartos aukoms iš Ukrainos” EEE/NOR
URL:https://anti-trafficking.lt/renginiai/mokymai-seksualines-prievartos-trauma-isgirsti-atpazinti-ir-padeti-kaune-organizatorius-kopzi-projektas-kompleksine-pagalba-seksualines-prievartos-aukoms-is-ukrainos-eee-nor/
LOCATION:Kaunas\, Lietuva
CATEGORIES:Mokymai
END:VEVENT
BEGIN:VEVENT
DTSTART;VALUE=DATE:20250225
DTEND;VALUE=DATE:20250226
DTSTAMP:20260422T030702
CREATED:20250225T202357Z
LAST-MODIFIED:20250225T202357Z
UID:26528-1740441600-1740527999@anti-trafficking.lt
SUMMARY:Kauno apskrities institucijų susitikimas dėl pagalbos prekybos žmonėmis aukoms ir prevencijos Kaune - Organizatorius: NAPPŽ
DESCRIPTION:2025.02.25 Kauno apskrities institucijų susitikimas dėl pagalbos prekybos žmonėmis aukoms ir prevencijos Kaune – Organizatorius: NAPPŽ
URL:https://anti-trafficking.lt/renginiai/kauno-apskrities-instituciju-susitikimas-del-pagalbos-prekybos-zmonemis-aukoms-ir-prevencijos-kaune-organizatorius-nappz/
LOCATION:Kaunas\, Lietuva
CATEGORIES:Susitikimas
END:VEVENT
BEGIN:VEVENT
DTSTART;VALUE=DATE:20250217
DTEND;VALUE=DATE:20250218
DTSTAMP:20260422T030702
CREATED:20250218T060822Z
LAST-MODIFIED:20250218T060822Z
UID:26490-1739750400-1739836799@anti-trafficking.lt
SUMMARY:Filmo "Olegas" peržiūra Vilniaus Gedimino technikos universiteto Lietuvos jūreivystės akademijoje Klaipėdoje - Organizatorius: KOPŽI
DESCRIPTION:2024.02.17 Filmo „Olegas” peržiūra Vilniaus Gedimino technikos universiteto Lietuvos jūreivystės akademijoje Klaipėdoje – Organizatorius: KOPŽI
URL:https://anti-trafficking.lt/renginiai/filmo-olegas-perziura-vilniaus-gedimino-technikos-universiteto-lietuvos-jureivystes-akademijoje-klaipedoje-organizatorius-kopzi/
LOCATION:Klaipėda\, Lietuva
CATEGORIES:Renginys
END:VEVENT
BEGIN:VEVENT
DTSTART;VALUE=DATE:20250213
DTEND;VALUE=DATE:20250214
DTSTAMP:20260422T030702
CREATED:20250218T060655Z
LAST-MODIFIED:20250218T060655Z
UID:26488-1739404800-1739491199@anti-trafficking.lt
SUMMARY:Vizitas ir diskusija Panevėžio AVPK - Organizatorius: KOPŽI ir Baltijos jūros valstybių projektas "Let's Share Knowledge\, Let's Share Experience"
DESCRIPTION:2025.02.13 Vizitas ir diskusija Panevėžio AVPK – Organizatorius: KOPŽI ir Baltijos jūros valstybių projektas „Let’s Share Knowledge\, Let’s Share Experience”
URL:https://anti-trafficking.lt/renginiai/vizitas-ir-diskusija-panevezio-avpk-organizatorius-kopzi-ir-baltijos-juros-valstybiu-projektas-lets-share-knowledge-lets-share-experience/
LOCATION:Panevėžys\, Lietuva
CATEGORIES:Diskusija
END:VEVENT
BEGIN:VEVENT
DTSTART;VALUE=DATE:20250213
DTEND;VALUE=DATE:20250214
DTSTAMP:20260422T030702
CREATED:20250218T060549Z
LAST-MODIFIED:20250218T060549Z
UID:26486-1739404800-1739491199@anti-trafficking.lt
SUMMARY:Vizitas ir diskusija Panevėžio moterų kalėjime - Organizatorius: KOPŽI ir Baltijos jūros valstybių projektas "Let's Share Knowledge\, Let's Share Experience"
DESCRIPTION:2025.02.13 Vizitas ir diskusija Panevėžio moterų kalėjime – Organizatorius: KOPŽI ir Baltijos jūros valstybių projektas „Let’s Share Knowledge\, Let’s Share Experience”
URL:https://anti-trafficking.lt/renginiai/vizitas-ir-diskusija-panevezio-moteru-kalejime-organizatorius-kopzi-ir-baltijos-juros-valstybiu-projektas-lets-share-knowledge-lets-share-experience/
LOCATION:Panevėžys\, Lietuva
CATEGORIES:Diskusija
END:VEVENT
BEGIN:VEVENT
DTSTART;VALUE=DATE:20250212
DTEND;VALUE=DATE:20250213
DTSTAMP:20260422T030702
CREATED:20250218T060431Z
LAST-MODIFIED:20250218T060431Z
UID:26484-1739318400-1739404799@anti-trafficking.lt
SUMMARY:Vizitas ir diskusija Vilniaus krizių centre - Organizatorius: KOPŽI ir Baltijos jūros valstybių projektas "Let's Share Knowledge\, Let's Share Experience"
DESCRIPTION:2025.02.12 Vizitas ir diskusija Vilniaus krizių centre – Organizatorius: KOPŽI ir Baltijos jūros valstybių projektas „Let’s Share Knowledge\, Let’s Share Experience”
URL:https://anti-trafficking.lt/renginiai/vizitas-ir-diskusija-vilniaus-kriziu-centre-organizatorius-kopzi-ir-baltijos-juros-valstybiu-projektas-lets-share-knowledge-lets-share-experience/
LOCATION:Vilnius\, Lietuva
CATEGORIES:Diskusija
END:VEVENT
BEGIN:VEVENT
DTSTART;VALUE=DATE:20250212
DTEND;VALUE=DATE:20250213
DTSTAMP:20260422T030702
CREATED:20250218T060329Z
LAST-MODIFIED:20250218T060329Z
UID:26482-1739318400-1739404799@anti-trafficking.lt
SUMMARY:Vizitas ir diskusija Seimo Žmogaus teisių komitete - Organizatorius: KOPŽI ir Baltijos jūros valstybių projektas "Let's Share Knowledge\, Let's Share Experience"
DESCRIPTION:2025.02.12 Vizitas ir diskusija Seimo Žmogaus teisių komitete – Organizatorius: KOPŽI ir Baltijos jūros valstybių projektas „Let’s Share Knowledge\, Let’s Share Experience”
URL:https://anti-trafficking.lt/renginiai/vizitas-ir-diskusija-seimo-zmogaus-teisiu-komitete-organizatorius-kopzi-ir-baltijos-juros-valstybiu-projektas-lets-share-knowledge-lets-share-experience/
LOCATION:Vilnius\, Lietuva
CATEGORIES:Diskusija
END:VEVENT
BEGIN:VEVENT
DTSTART;VALUE=DATE:20250212
DTEND;VALUE=DATE:20250213
DTSTAMP:20260422T030702
CREATED:20250213T064701Z
LAST-MODIFIED:20250213T064719Z
UID:26476-1739318400-1739404799@anti-trafficking.lt
SUMMARY:Akcija Laukuvos Norberto Vėliaus gimnazijoje "Ką žinau apie prekybą žmonėmis?" - Organizatorius: KOPŽI
DESCRIPTION:2025.02.12 Akcija Laukuvos Norberto Vėliaus gimnazijoje „Ką žinau apie prekybą žmonėmis?” – Organizatorius: KOPŽI
URL:https://anti-trafficking.lt/renginiai/akcija-laukuvos-norberto-veliaus-gimnazijoje-ka-zinau-apie-prekyba-zmonemis-organizatorius-kopzi/
LOCATION:Laukuva\, Lithuania
CATEGORIES:Akcija
END:VEVENT
BEGIN:VEVENT
DTSTART;VALUE=DATE:20250211
DTEND;VALUE=DATE:20250212
DTSTAMP:20260422T030702
CREATED:20250218T060133Z
LAST-MODIFIED:20250218T061018Z
UID:26480-1739232000-1739318399@anti-trafficking.lt
SUMMARY:Vizitas ir diskusija Seimo kontrolierių įstaigoje - Organizatorius: KOPŽI ir Baltijos jūros valstybių projektas "Let's Share Knowledge\, Let's Share Experience"
DESCRIPTION:2025.02.11 Vizitas ir diskusija Seimo kontrolierių įstaigoje – Organizatorius: KOPŽI ir Baltijos jūros valstybių projektas „Let’s Share Knowledge\, Let’s Share Experience”
URL:https://anti-trafficking.lt/renginiai/vizitas-ir-diskusija-seimo-kontrolieriu-istaigoje-organizatorius-kopzi-ir-baltijos-juros-valstybiu-projektas-lets-share-knowledge-lets-share-experience/
LOCATION:Vilnius\, Lietuva
CATEGORIES:Diskusija
END:VEVENT
BEGIN:VEVENT
DTSTART;VALUE=DATE:20250203
DTEND;VALUE=DATE:20250204
DTSTAMP:20260422T030702
CREATED:20250203T184518Z
LAST-MODIFIED:20250203T184518Z
UID:26463-1738540800-1738627199@anti-trafficking.lt
SUMMARY:Akcija Tauragės r. Žygaičių gimnazijoje "Ką žinau apie prekybą žmonėmis?" - Organizatorius: KOPŽI
DESCRIPTION:2025.02.03 Akcija Tauragės r. Žygaičių gimnazijoje „Ką žinau apie prekybą žmonėmis?” – Organizatorius: KOPŽI
URL:https://anti-trafficking.lt/renginiai/akcija-taurages-r-zygaiciu-gimnazijoje-ka-zinau-apie-prekyba-zmonemis-organizatorius-kopzi/
LOCATION:Tauragės rajonas\, Lithuania
CATEGORIES:Akcija
END:VEVENT
BEGIN:VEVENT
DTSTART;VALUE=DATE:20250124
DTEND;VALUE=DATE:20250125
DTSTAMP:20260422T030702
CREATED:20250203T184253Z
LAST-MODIFIED:20250203T184253Z
UID:26460-1737676800-1737763199@anti-trafficking.lt
SUMMARY:Prevencinė akcija Pagėgių Algimanto Mockaus gimnazijoje "Ką žinau apie prekybą žmonėmis?" - Organizatorius: KOPŽI
DESCRIPTION:2025.01.24 Prevencinė akcija Pagėgių Algimanto Mockaus gimnazijoje „Ką žinau apie prekybą žmonėmis?” – Organizatorius: KOPŽI
URL:https://anti-trafficking.lt/renginiai/prevencine-akcija-pagegiu-algimanto-mockaus-gimnazijoje-ka-zinau-apie-prekyba-zmonemis-organizatorius-kopzi/
LOCATION:Pagėgiai\, Lithuania
CATEGORIES:Susitikimas
END:VEVENT
BEGIN:VEVENT
DTSTART;TZID=Europe/Vilnius:20250122T080000
DTEND;TZID=Europe/Vilnius:20250123T170000
DTSTAMP:20260422T030702
CREATED:20250128T192655Z
LAST-MODIFIED:20250128T192841Z
UID:26443-1737532800-1737651600@anti-trafficking.lt
SUMMARY:Programos "Veikiam!" lyčių lygybės mokymai Kaune - Organizatorius: Atviros Lietuvos fondas\, Lygių galimybių plėtros centras. 2025.01.22-23
DESCRIPTION:2025.01.22-23 Programos „Veikiam!” lyčių lygybės mokymai Kaune – Organizatorius: Atviros Lietuvos fondas\, Lygių galimybių plėtros centras
URL:https://anti-trafficking.lt/renginiai/programos-veikiam-lyciu-lygybes-mokymai-kaune-organizatorius-atviros-lietuvos-fondas-lygiu-galimybiu-pletros-centras/
LOCATION:Kaunas\, Lietuva
CATEGORIES:Renginys
END:VEVENT
BEGIN:VEVENT
DTSTART;VALUE=DATE:20250114
DTEND;VALUE=DATE:20250115
DTSTAMP:20260422T030702
CREATED:20250113T093702Z
LAST-MODIFIED:20250113T093702Z
UID:26412-1736812800-1736899199@anti-trafficking.lt
SUMMARY:Filmo "Olegas" peržiūra Kupiškio rajono savivaldybės viešojoje bibliotekoje - Organizatorius: KOPŽI
DESCRIPTION:Filmo „Olegas” peržiūra Kupiškio rajono savivaldybės viešojoje bibliotekoje – Organizatorius: KOPŽI
URL:https://anti-trafficking.lt/renginiai/filmo-olegas-perziura-kupiskio-rajono-savivaldybes-viesojoje-bibliotekoje-organizatorius-kopzi/
LOCATION:Kupiškio rajonas\, Lithuania
CATEGORIES:Renginys
END:VEVENT
BEGIN:VEVENT
DTSTART;VALUE=DATE:20241218
DTEND;VALUE=DATE:20241219
DTSTAMP:20260422T030702
CREATED:20241219T034713Z
LAST-MODIFIED:20241219T034713Z
UID:26401-1734480000-1734566399@anti-trafficking.lt
SUMMARY:Konferencija Tauragėje "Prekybos žmonėmis ir seksualinės prievartos aukų integracija į visuomenę: geroji praktika ir iššūkiai" - Organizatorius: KOPŽI\, Tauragės rajono savivaldybė
DESCRIPTION:2024.12.18 Konferencija Tauragėje „Prekybos žmonėmis ir seksualinės prievartos aukų integracija į visuomenę: geroji praktika ir iššūkiai” – Organizatorius: KOPŽI\, Tauragės rajono savivaldybė
URL:https://anti-trafficking.lt/renginiai/konferencija-taurageje-prekybos-zmonemis-ir-seksualines-prievartos-auku-integracija-i-visuomene-geroji-praktika-ir-issukiai-organizatorius-kopzi-taurages-rajono-savivaldybe/
LOCATION:Tauragė\, Lietuva
CATEGORIES:Konferencija
END:VEVENT
BEGIN:VEVENT
DTSTART;VALUE=DATE:20241218
DTEND;VALUE=DATE:20241219
DTSTAMP:20260422T030702
CREATED:20241210T174805Z
LAST-MODIFIED:20241210T174805Z
UID:26382-1734480000-1734566399@anti-trafficking.lt
SUMMARY:Filmo "Olegas" peržiūra Pasvalio kultūros centre - Organizatorius: KOPŽI
DESCRIPTION:
URL:https://anti-trafficking.lt/renginiai/filmo-olegas-perziura-pasvalio-kulturos-centre-organizatorius-kopzi/
LOCATION:Pasvalys\, Lithuania
CATEGORIES:Renginys
END:VEVENT
BEGIN:VEVENT
DTSTART;VALUE=DATE:20241214
DTEND;VALUE=DATE:20241215
DTSTAMP:20260422T030702
CREATED:20241210T174940Z
LAST-MODIFIED:20241210T174940Z
UID:26384-1734134400-1734220799@anti-trafficking.lt
SUMMARY:Filmo "Olegas" peržiūra Skaudvilės kultūros namuose - Organizatorius: KOPŽI
DESCRIPTION:
URL:https://anti-trafficking.lt/renginiai/filmo-olegas-perziura-skaudviles-kulturos-namuose-organizatorius-kopzi/
LOCATION:Skaudvilė\, Lithuania
CATEGORIES:Renginys
END:VEVENT
BEGIN:VEVENT
DTSTART;VALUE=DATE:20241213
DTEND;VALUE=DATE:20241214
DTSTAMP:20260422T030702
CREATED:20241227T123550Z
LAST-MODIFIED:20241230T101749Z
UID:26406-1734048000-1734134399@anti-trafficking.lt
SUMMARY:Lietuvos advokatūros šventinis renginys Vilniuje – Organizatorius: Lietuvos advokatūra
DESCRIPTION:2024.12.13 Lietuvos advokatūros šventinis renginys – Organizatorius: Lietuvos advokatūra
URL:https://anti-trafficking.lt/renginiai/lietuvos-advokaturos-sventinis-renginys-organizatorius-lietuvos-advokatura/
LOCATION:Vilnius\, Lietuva
CATEGORIES:Renginys
END:VEVENT
BEGIN:VEVENT
DTSTART;VALUE=DATE:20241212
DTEND;VALUE=DATE:20241213
DTSTAMP:20260422T030702
CREATED:20241227T123453Z
LAST-MODIFIED:20241227T123453Z
UID:26404-1733961600-1734047999@anti-trafficking.lt
SUMMARY:Paskaita apie prekybą žmonėmis ir seksualinę prievartą Panevėžio rajono seniūnijų socialiniams darbuotojams ir atvejo vadybininkams - Organizatorius: Panevėžio rajono savivaldybė
DESCRIPTION:2024.12.12 Paskaita apie prekybą žmonėmis ir seksualinę prievartą Panevėžio rajono seniūnijų socialiniams darbuotojams ir atvejo vadybininkams – Organizatorius: Panevėžio rajono savivaldybė
URL:https://anti-trafficking.lt/renginiai/paskaita-apie-prekyba-zmonemis-ir-seksualine-prievarta-panevezio-rajono-seniuniju-socialiniams-darbuotojams-ir-atvejo-vadybininkams-organizatorius-panevezio-rajono-savivaldybe/
LOCATION:Panevėžys\, Lietuva
CATEGORIES:Paskaita
END:VEVENT
BEGIN:VEVENT
DTSTART;VALUE=DATE:20241205
DTEND;VALUE=DATE:20241206
DTSTAMP:20260422T030702
CREATED:20241212T053003Z
LAST-MODIFIED:20241212T053003Z
UID:26387-1733356800-1733443199@anti-trafficking.lt
SUMMARY:Paskaitos "Apsaugok save ir kitus: prekyba žmonėmis pavojai ir prevencija" Kupiškio socialinių paslaugų centre - Organizatorius: Kupiškio socialinių paslaugų centras\, KOPŽI
DESCRIPTION:2024.12.05 Paskaitos „Apsaugok save ir kitus: prekyba žmonėmis pavojai ir prevencija” Kupiškio socialinių paslaugų centre – Organizatorius: Kupiškio socialinių paslaugų centras\, KOPŽI
URL:https://anti-trafficking.lt/renginiai/paskaitos-apsaugok-save-ir-kitus-prekyba-zmonemis-pavojai-ir-prevencija-kupiskio-socialiniu-paslaugu-centre-organizatorius-kupiskio-socialiniu-paslaugu-centras-kopzi/
LOCATION:Kupiškis\, Lithuania
CATEGORIES:Paskaita
END:VEVENT
BEGIN:VEVENT
DTSTART;VALUE=DATE:20241204
DTEND;VALUE=DATE:20241205
DTSTAMP:20260422T030702
CREATED:20241219T034555Z
LAST-MODIFIED:20241219T034555Z
UID:26399-1733270400-1733356799@anti-trafficking.lt
SUMMARY:Filmo "Olegas" peržiūra Jonavos kultūros centre - Organizatorius: KOPŽI
DESCRIPTION:2024.12.04 Filmo „Olegas” peržiūra Jonavos kultūros centre – Organizatorius: KOPŽI
URL:https://anti-trafficking.lt/renginiai/filmo-olegas-perziura-jonavos-kulturos-centre-organizatorius-kopzi/
LOCATION:Jonava\, Lietuva
CATEGORIES:Renginys
END:VEVENT
BEGIN:VEVENT
DTSTART;VALUE=DATE:20241202
DTEND;VALUE=DATE:20241203
DTSTAMP:20260422T030702
CREATED:20241206T004151Z
LAST-MODIFIED:20241206T004151Z
UID:26364-1733097600-1733183999@anti-trafficking.lt
SUMMARY:Tarptautinė konferencija "Karo trauma ir moterų žmogaus teisių apsauga: Moterų žmogaus teisės Lietuvoje 2024" Seime - Organizatorius: Vilniaus moterų namai\, LR Seimas
DESCRIPTION:2024.12.02 Tarptautinė konferencija „Karo trauma ir moterų žmogaus teisių apsauga: Moterų žmogaus teisės Lietuvoje 2024″ Seime – Organizatorius: Vilniaus moterų namai\, LR Seimas
URL:https://anti-trafficking.lt/renginiai/tarptautine-konferencija-karo-trauma-ir-moteru-zmogaus-teisiu-apsauga-moteru-zmogaus-teises-lietuvoje-2024-seime-organizatorius-vilniaus-moteru-namai-lr-seimas/
LOCATION:Vilnius\, Lietuva
CATEGORIES:Konferencija
END:VEVENT
BEGIN:VEVENT
DTSTART;VALUE=DATE:20241129
DTEND;VALUE=DATE:20241130
DTSTAMP:20260422T030702
CREATED:20241206T004013Z
LAST-MODIFIED:20241206T004013Z
UID:26362-1732838400-1732924799@anti-trafficking.lt
SUMMARY:Tarptautinė konferencija "Mental Health of Ukrainians and Lithuanians in the Condition of War: Challenges and Solutions" Vilniuje - Organizatorius: Ukreate Hub
DESCRIPTION:2024.11.29 Tarptautinė konferencija „Mental Health of Ukrainians and Lithuanians in the Condition of War: Challenges and Solutions” Vilniuje – Organizatorius: Ukreate Hub
URL:https://anti-trafficking.lt/renginiai/tarptautine-konferencija-mental-health-of-ukrainians-and-lithuanians-in-the-condition-of-war-challenges-and-solutions-vilniuje-organizatorius-ukreate-hub/
LOCATION:Vilnius\, Lietuva
CATEGORIES:Konferencija
END:VEVENT
END:VCALENDAR