BEGIN:VCALENDAR
VERSION:2.0
PRODID:-//KOPŽI - ECPv6.2.8.2//NONSGML v1.0//EN
CALSCALE:GREGORIAN
METHOD:PUBLISH
X-ORIGINAL-URL:https://anti-trafficking.lt
X-WR-CALDESC:Events for KOPŽI
REFRESH-INTERVAL;VALUE=DURATION:PT1H
X-Robots-Tag:noindex
X-PUBLISHED-TTL:PT1H
BEGIN:VTIMEZONE
TZID:Europe/Vilnius
BEGIN:DAYLIGHT
TZOFFSETFROM:+0200
TZOFFSETTO:+0300
TZNAME:EEST
DTSTART:20230326T010000
END:DAYLIGHT
BEGIN:STANDARD
TZOFFSETFROM:+0300
TZOFFSETTO:+0200
TZNAME:EET
DTSTART:20231029T010000
END:STANDARD
END:VTIMEZONE
BEGIN:VEVENT
DTSTART;VALUE=DATE:20230309
DTEND;VALUE=DATE:20230310
DTSTAMP:20260424T030457
CREATED:20231223T135000Z
LAST-MODIFIED:20231224T080537Z
UID:24792-1678320000-1678406399@anti-trafficking.lt
SUMMARY:Mokymai online apie prekybą žmonėmis Ukrainos pasienio tarnyboms - Organizatorius: European Union Advisary Mission Ukraine
DESCRIPTION:Organizatorius: European Union Advisary Mission Ukraine
URL:https://anti-trafficking.lt/renginiai/mokymai-online-apie-prekyba-zmonemis-ukrainos-pasienio-tarnyboms/
CATEGORIES:Mokymai
END:VEVENT
BEGIN:VEVENT
DTSTART;TZID=Europe/Vilnius:20230110T080000
DTEND;TZID=Europe/Vilnius:20230112T170000
DTSTAMP:20260424T030457
CREATED:20231223T135540Z
LAST-MODIFIED:20240117T124306Z
UID:24805-1673337600-1673542800@anti-trafficking.lt
SUMMARY:JAV teisėjos V. Kendall mokymai Kaune\, Šiauliuose\, Klaipėdoje. - Organizatorius: NAPPŽ 2023.01.10-01.12
DESCRIPTION:Organizatorius: NAPPŽ
URL:https://anti-trafficking.lt/renginiai/jav-teisejos-v-kendall-mokymai-kaune-siauliuose-klaipedoje/
LOCATION:Kaunas\, Šiauliai\, Klaipėda\, Lietuva
CATEGORIES:Mokymai
END:VEVENT
END:VCALENDAR