BEGIN:VCALENDAR
VERSION:2.0
PRODID:-//KOPŽI - ECPv6.2.8.2//NONSGML v1.0//EN
CALSCALE:GREGORIAN
METHOD:PUBLISH
X-WR-CALNAME:KOPŽI
X-ORIGINAL-URL:https://anti-trafficking.lt
X-WR-CALDESC:Events for KOPŽI
REFRESH-INTERVAL;VALUE=DURATION:PT1H
X-Robots-Tag:noindex
X-PUBLISHED-TTL:PT1H
BEGIN:VTIMEZONE
TZID:Europe/Vilnius
BEGIN:DAYLIGHT
TZOFFSETFROM:+0200
TZOFFSETTO:+0300
TZNAME:EEST
DTSTART:20250330T010000
END:DAYLIGHT
BEGIN:STANDARD
TZOFFSETFROM:+0300
TZOFFSETTO:+0200
TZNAME:EET
DTSTART:20251026T010000
END:STANDARD
END:VTIMEZONE
BEGIN:VEVENT
DTSTART;VALUE=DATE:20251217
DTEND;VALUE=DATE:20251218
DTSTAMP:20260422T024142
CREATED:20260226T200712Z
LAST-MODIFIED:20260226T200712Z
UID:27274-1765929600-1766015999@anti-trafficking.lt
SUMMARY:Diskusija "Kaip apsaugoti pažeidžiamus asmenis nuo išnaudojimo Kupiškio rajone?" Kupiškio rajono savivaldybėje - Organizatorius: KOPŽI
DESCRIPTION:2025.12.17 Diskusija „Kaip apsaugoti pažeidžiamus asmenis nuo išnaudojimo Kupiškio rajone?” Kupiškio rajono savivaldybėje – Organizatorius: KOPŽI
URL:https://anti-trafficking.lt/renginiai/diskusija-kaip-apsaugoti-pazeidziamus-asmenis-nuo-isnaudojimo-kupiskio-rajone-kupiskio-rajono-savivaldybeje-organizatorius-kopzi/
LOCATION:Kupiškio rajonas\, Lithuania
CATEGORIES:Diskusija
END:VEVENT
BEGIN:VEVENT
DTSTART;VALUE=DATE:20251217
DTEND;VALUE=DATE:20251218
DTSTAMP:20260422T024142
CREATED:20260226T201806Z
LAST-MODIFIED:20260226T201806Z
UID:27283-1765929600-1766015999@anti-trafficking.lt
SUMMARY:Apskrito stalo diskusija "Seksualinis smurtas prieš vaikus artimoje aplinkoje" Kupiškio rajono savivaldybėje - Organizatorius: KOPŽI\, Kupiškio rajono savivaldybė
DESCRIPTION:2025.12.17 Apskrito stalo diskusija „Seksualinis smurtas prieš vaikus artimoje aplinkoje” Kupiškio rajono savivaldybėje – Organizatorius: KOPŽI\, Kupiškio rajono savivaldybė
URL:https://anti-trafficking.lt/renginiai/apskrito-stalo-diskusija-seksualinis-smurtas-pries-vaikus-artimoje-aplinkoje-kupiskio-rajono-savivaldybeje-organizatorius-kopzi-kupiskio-rajono-savivaldybe/
LOCATION:Kupiškio rajonas\, Lithuania
CATEGORIES:Diskusija
END:VEVENT
END:VCALENDAR