BEGIN:VCALENDAR
VERSION:2.0
PRODID:-//KOPŽI - ECPv6.2.8.2//NONSGML v1.0//EN
CALSCALE:GREGORIAN
METHOD:PUBLISH
X-ORIGINAL-URL:https://anti-trafficking.lt
X-WR-CALDESC:Events for KOPŽI
REFRESH-INTERVAL;VALUE=DURATION:PT1H
X-Robots-Tag:noindex
X-PUBLISHED-TTL:PT1H
BEGIN:VTIMEZONE
TZID:Europe/Vilnius
BEGIN:DAYLIGHT
TZOFFSETFROM:+0200
TZOFFSETTO:+0300
TZNAME:EEST
DTSTART:20250330T010000
END:DAYLIGHT
BEGIN:STANDARD
TZOFFSETFROM:+0300
TZOFFSETTO:+0200
TZNAME:EET
DTSTART:20251026T010000
END:STANDARD
END:VTIMEZONE
BEGIN:VEVENT
DTSTART;VALUE=DATE:20251210
DTEND;VALUE=DATE:20251211
DTSTAMP:20260423T230643
CREATED:20251216T184032Z
LAST-MODIFIED:20251216T184032Z
UID:27125-1765324800-1765411199@anti-trafficking.lt
SUMMARY:Apskrito stalo diskusija "Seksualinis smurtas prieš vaikus artimoje aplinkoje" Lazdijų švietimo centre - Organizatorius: KOPŽI\, Lazdijų švietimo centras
DESCRIPTION:2025.12.10 Apskrito stalo diskusija „Seksualinis smurtas prieš vaikus artimoje aplinkoje” Lazdijų švietimo centre – Organizatorius: KOPŽI\, Lazdijų švietimo centras
URL:https://anti-trafficking.lt/renginiai/apskrito-stalo-diskusija-seksualinis-smurtas-pries-vaikus-artimoje-aplinkoje-lazdiju-svietimo-centre-organizatorius-kopzi-lazdiju-svietimo-centras/
LOCATION:Lazdijai\, Lithuania
CATEGORIES:Diskusija
END:VEVENT
END:VCALENDAR