BEGIN:VCALENDAR
VERSION:2.0
PRODID:-//KOPŽI - ECPv6.2.8.2//NONSGML v1.0//EN
CALSCALE:GREGORIAN
METHOD:PUBLISH
X-ORIGINAL-URL:https://anti-trafficking.lt
X-WR-CALDESC:Events for KOPŽI
REFRESH-INTERVAL;VALUE=DURATION:PT1H
X-Robots-Tag:noindex
X-PUBLISHED-TTL:PT1H
BEGIN:VTIMEZONE
TZID:Europe/Vilnius
BEGIN:DAYLIGHT
TZOFFSETFROM:+0200
TZOFFSETTO:+0300
TZNAME:EEST
DTSTART:20250330T010000
END:DAYLIGHT
BEGIN:STANDARD
TZOFFSETFROM:+0300
TZOFFSETTO:+0200
TZNAME:EET
DTSTART:20251026T010000
END:STANDARD
END:VTIMEZONE
BEGIN:VEVENT
DTSTART;VALUE=DATE:20251208
DTEND;VALUE=DATE:20251209
DTSTAMP:20260423T182542
CREATED:20251216T183721Z
LAST-MODIFIED:20251216T183721Z
UID:27119-1765152000-1765238399@anti-trafficking.lt
SUMMARY:Apskrito stalo diskusija "Seksualinis smurtas prieš vaikus artimoje aplinkoje" Lietuvos policijos mokykloje - Organizatorius: KOPŽI\, Lietuvos policijos mokykla
DESCRIPTION:2025.12.08 Apskrito stalo diskusija „Seksualinis smurtas prieš vaikus artimoje aplinkoje” Lietuvos policijos mokykloje – Organizatorius: KOPŽI\, Lietuvos policijos mokykla
URL:https://anti-trafficking.lt/renginiai/apskrito-stalo-diskusija-seksualinis-smurtas-pries-vaikus-artimoje-aplinkoje-lietuvos-policijos-mokykloje-organizatorius-kopzi-lietuvos-policijos-mokykla/
LOCATION:Lietuvos policijos mokykla\, Lithuania
CATEGORIES:Diskusija
END:VEVENT
END:VCALENDAR