BEGIN:VCALENDAR
VERSION:2.0
PRODID:-//KOPŽI - ECPv6.2.8.2//NONSGML v1.0//EN
CALSCALE:GREGORIAN
METHOD:PUBLISH
X-ORIGINAL-URL:https://anti-trafficking.lt
X-WR-CALDESC:Events for KOPŽI
REFRESH-INTERVAL;VALUE=DURATION:PT1H
X-Robots-Tag:noindex
X-PUBLISHED-TTL:PT1H
BEGIN:VTIMEZONE
TZID:Europe/Vilnius
BEGIN:DAYLIGHT
TZOFFSETFROM:+0200
TZOFFSETTO:+0300
TZNAME:EEST
DTSTART:20250330T010000
END:DAYLIGHT
BEGIN:STANDARD
TZOFFSETFROM:+0300
TZOFFSETTO:+0200
TZNAME:EET
DTSTART:20251026T010000
END:STANDARD
END:VTIMEZONE
BEGIN:VEVENT
DTSTART;VALUE=DATE:20251202
DTEND;VALUE=DATE:20251203
DTSTAMP:20260424T034428
CREATED:20251216T183101Z
LAST-MODIFIED:20251216T183101Z
UID:27109-1764633600-1764719999@anti-trafficking.lt
SUMMARY:Konferencija "Išgirsk mane: kelias į gyvenimą be smurto" Palangos savivaldybėje - Organizatorius: Palangos miesto savivaldybės smurto artimoje aplinkoje prevencijos komisija
DESCRIPTION:2025.12.02 Konferencija „Išgirsk mane: kelias į gyvenimą be smurto” Palangos savivaldybėje – Organizatorius: Palangos miesto savivaldybės smurto artimoje aplinkoje prevencijos komisi
URL:https://anti-trafficking.lt/renginiai/konferencija-isgirsk-mane-kelias-i-gyvenima-be-smurto-palangos-savivaldybeje-organizatorius-palangos-miesto-savivaldybes-smurto-artimoje-aplinkoje-prevencijos-komisija/
LOCATION:Palangos savivaldybė\, Lithuania
CATEGORIES:Konferencija
END:VEVENT
END:VCALENDAR